BEGIN:VCALENDAR
VERSION:2.0
PRODID:-//Connect Church - ECPv6.15.18//NONSGML v1.0//EN
CALSCALE:GREGORIAN
METHOD:PUBLISH
X-WR-CALNAME:Connect Church
X-ORIGINAL-URL:https://connectchurch.com
X-WR-CALDESC:Events for Connect Church
REFRESH-INTERVAL;VALUE=DURATION:PT1H
X-Robots-Tag:noindex
X-PUBLISHED-TTL:PT1H
BEGIN:VTIMEZONE
TZID:America/Chicago
BEGIN:DAYLIGHT
TZOFFSETFROM:-0600
TZOFFSETTO:-0500
TZNAME:CDT
DTSTART:20220313T080000
END:DAYLIGHT
BEGIN:STANDARD
TZOFFSETFROM:-0500
TZOFFSETTO:-0600
TZNAME:CST
DTSTART:20221106T070000
END:STANDARD
BEGIN:DAYLIGHT
TZOFFSETFROM:-0600
TZOFFSETTO:-0500
TZNAME:CDT
DTSTART:20230312T080000
END:DAYLIGHT
BEGIN:STANDARD
TZOFFSETFROM:-0500
TZOFFSETTO:-0600
TZNAME:CST
DTSTART:20231105T070000
END:STANDARD
BEGIN:DAYLIGHT
TZOFFSETFROM:-0600
TZOFFSETTO:-0500
TZNAME:CDT
DTSTART:20240310T080000
END:DAYLIGHT
BEGIN:STANDARD
TZOFFSETFROM:-0500
TZOFFSETTO:-0600
TZNAME:CST
DTSTART:20241103T070000
END:STANDARD
END:VTIMEZONE
BEGIN:VTIMEZONE
TZID:UTC
BEGIN:STANDARD
TZOFFSETFROM:+0000
TZOFFSETTO:+0000
TZNAME:UTC
DTSTART:20220101T000000
END:STANDARD
END:VTIMEZONE
BEGIN:VEVENT
DTSTART;TZID=America/Chicago:20231101T070000
DTEND;TZID=America/Chicago:20231101T071500
DTSTAMP:20260425T221404
CREATED:20220116T061952Z
LAST-MODIFIED:20220116T061952Z
UID:9640-1698822000-1698822900@connectchurch.com
SUMMARY:Wednesday Morning Prayer Call
DESCRIPTION:Join us for the morning prayer call:\nWednesday 7:00 – 7:15am\nDial in number: (669) 275-1250
URL:https://connectchurch.com/event/wednesday-morning-prayer-call-2023-11-01/
ATTACH;FMTTYPE=image/png:https://connectchurch.com/wp-content/uploads/2022/01/nl011622PhoneBible.png
END:VEVENT
BEGIN:VEVENT
DTSTART;TZID=America/Chicago:20231101T180000
DTEND;TZID=America/Chicago:20231101T190000
DTSTAMP:20260425T221404
CREATED:20220116T061005Z
LAST-MODIFIED:20220301T020304Z
UID:9539-1698861600-1698865200@connectchurch.com
SUMMARY:First Wednesday Dinner and Prayer
DESCRIPTION:“Don’t worry about anything; instead\, pray about everything. Tell God what you need\, and thank him for all he has done.”\n— Philippians 4:6  \nJoin us for our monthly church-wide Dinner and Prayer. Come and bring your petitions to the Lord\, and join us as we seek His continued direction for our church. We will gather at on the first Wednesday at 6 pm for a family dinner and 6:30 pm for prayer.
URL:https://connectchurch.com/event/first-wednesday-dinner-and-prayer-2023-11-01/
ATTACH;FMTTYPE=image/png:https://connectchurch.com/wp-content/uploads/2022/01/wi1stWednesdayPrayer.png
END:VEVENT
BEGIN:VEVENT
DTSTART;TZID=America/Chicago:20231101T180000
DTEND;TZID=America/Chicago:20231101T200000
DTSTAMP:20260425T221404
CREATED:20220113T181915Z
LAST-MODIFIED:20220113T181915Z
UID:10776-1698861600-1698868800@connectchurch.com
SUMMARY:Recharge
DESCRIPTION:WEDNESDAY NIGHTS\nLifeGroups are designed to keep our students connected with peers and in the Word! This meeting time is designed for food\, fun\, hang out while also providing deep\, biblical learning. We know that the school year can be hectic\, but we think it is valuable to carve out time for fellowship in Christ! \n7th – 12th grade | 6-8pm | The Hub
URL:https://connectchurch.com/event/recharge-2-2023-11-01/
ATTACH;FMTTYPE=image/jpeg:https://connectchurch.com/wp-content/uploads/2021/04/wiRechargeWed.jpg
END:VEVENT
BEGIN:VEVENT
DTSTART;TZID=America/Chicago:20231101T183000
DTEND;TZID=America/Chicago:20231101T193000
DTSTAMP:20260425T221404
CREATED:20220113T181612Z
LAST-MODIFIED:20220113T181612Z
UID:9458-1698863400-1698867000@connectchurch.com
SUMMARY:TeamKID
DESCRIPTION:Join TeamKID every Wednesday evening during the school semester for a fun\, high-energy\, Bible and mission based program with games and activities (Lasts until 8pm on Prayer Nights). \n3 yr old – 4 yr old | Preschool Area | 6:30 – 7:30pm\nKindergarten – 6th grade | Kids Area | 6:30 – 7:30pm
URL:https://connectchurch.com/event/teamkid-2023-11-01/
ATTACH;FMTTYPE=image/jpeg:https://connectchurch.com/wp-content/uploads/2021/04/wiTeamKid.jpg
END:VEVENT
BEGIN:VEVENT
DTSTART;TZID=UTC:20231105T090000
DTEND;TZID=UTC:20231105T100000
DTSTAMP:20260425T221404
CREATED:20210422T040207Z
LAST-MODIFIED:20210422T040207Z
UID:8985-1699174800-1699178400@connectchurch.com
SUMMARY:Sunday Morning Discipleship Classes
DESCRIPTION:At Connect Church\, we believe in the transformative power of God’s Word. As we study His Word\, He transforms us into disciples of Jesus Christ — life-long learners and leaders. We offer opportunities for all adults to build a stronger foundation for faith\, family and friendships. \nConnect Student Ministry\nMeeting Time | 9am | The Hub \nMen\nMeeting Time |  9am | Room 134 \nWomen\nMeeting time | 9am | Room 132 \nMillennials and More\nMeeting time | 9am | Room 124 \nStudy of John\nMeeting time | 9am | Room 124
URL:https://connectchurch.com/event/sunday-morning-discipleship-classes-2023-11-05/
ATTACH;FMTTYPE=image/png:https://connectchurch.com/wp-content/uploads/2021/04/nl041521DiscipleshipClasses-1.png
END:VEVENT
BEGIN:VEVENT
DTSTART;TZID=America/Chicago:20231108T070000
DTEND;TZID=America/Chicago:20231108T071500
DTSTAMP:20260425T221404
CREATED:20220116T061952Z
LAST-MODIFIED:20220116T061952Z
UID:9641-1699426800-1699427700@connectchurch.com
SUMMARY:Wednesday Morning Prayer Call
DESCRIPTION:Join us for the morning prayer call:\nWednesday 7:00 – 7:15am\nDial in number: (669) 275-1250
URL:https://connectchurch.com/event/wednesday-morning-prayer-call-2023-11-08/
ATTACH;FMTTYPE=image/png:https://connectchurch.com/wp-content/uploads/2022/01/nl011622PhoneBible.png
END:VEVENT
BEGIN:VEVENT
DTSTART;TZID=America/Chicago:20231108T180000
DTEND;TZID=America/Chicago:20231108T200000
DTSTAMP:20260425T221404
CREATED:20220113T181915Z
LAST-MODIFIED:20220113T181915Z
UID:10777-1699466400-1699473600@connectchurch.com
SUMMARY:Recharge
DESCRIPTION:WEDNESDAY NIGHTS\nLifeGroups are designed to keep our students connected with peers and in the Word! This meeting time is designed for food\, fun\, hang out while also providing deep\, biblical learning. We know that the school year can be hectic\, but we think it is valuable to carve out time for fellowship in Christ! \n7th – 12th grade | 6-8pm | The Hub
URL:https://connectchurch.com/event/recharge-2-2023-11-08/
ATTACH;FMTTYPE=image/jpeg:https://connectchurch.com/wp-content/uploads/2021/04/wiRechargeWed.jpg
END:VEVENT
BEGIN:VEVENT
DTSTART;TZID=America/Chicago:20231108T183000
DTEND;TZID=America/Chicago:20231108T193000
DTSTAMP:20260425T221404
CREATED:20220113T181612Z
LAST-MODIFIED:20220113T181612Z
UID:9459-1699468200-1699471800@connectchurch.com
SUMMARY:TeamKID
DESCRIPTION:Join TeamKID every Wednesday evening during the school semester for a fun\, high-energy\, Bible and mission based program with games and activities (Lasts until 8pm on Prayer Nights). \n3 yr old – 4 yr old | Preschool Area | 6:30 – 7:30pm\nKindergarten – 6th grade | Kids Area | 6:30 – 7:30pm
URL:https://connectchurch.com/event/teamkid-2023-11-08/
ATTACH;FMTTYPE=image/jpeg:https://connectchurch.com/wp-content/uploads/2021/04/wiTeamKid.jpg
END:VEVENT
BEGIN:VEVENT
DTSTART;TZID=UTC:20231112T090000
DTEND;TZID=UTC:20231112T100000
DTSTAMP:20260425T221404
CREATED:20210422T040207Z
LAST-MODIFIED:20210422T040207Z
UID:9006-1699779600-1699783200@connectchurch.com
SUMMARY:Sunday Morning Discipleship Classes
DESCRIPTION:At Connect Church\, we believe in the transformative power of God’s Word. As we study His Word\, He transforms us into disciples of Jesus Christ — life-long learners and leaders. We offer opportunities for all adults to build a stronger foundation for faith\, family and friendships. \nConnect Student Ministry\nMeeting Time | 9am | The Hub \nMen\nMeeting Time |  9am | Room 134 \nWomen\nMeeting time | 9am | Room 132 \nMillennials and More\nMeeting time | 9am | Room 124 \nStudy of John\nMeeting time | 9am | Room 124
URL:https://connectchurch.com/event/sunday-morning-discipleship-classes-2023-11-12/
ATTACH;FMTTYPE=image/png:https://connectchurch.com/wp-content/uploads/2021/04/nl041521DiscipleshipClasses-1.png
END:VEVENT
BEGIN:VEVENT
DTSTART;TZID=America/Chicago:20231115T070000
DTEND;TZID=America/Chicago:20231115T071500
DTSTAMP:20260425T221404
CREATED:20220116T061952Z
LAST-MODIFIED:20220116T061952Z
UID:9642-1700031600-1700032500@connectchurch.com
SUMMARY:Wednesday Morning Prayer Call
DESCRIPTION:Join us for the morning prayer call:\nWednesday 7:00 – 7:15am\nDial in number: (669) 275-1250
URL:https://connectchurch.com/event/wednesday-morning-prayer-call-2023-11-15/
ATTACH;FMTTYPE=image/png:https://connectchurch.com/wp-content/uploads/2022/01/nl011622PhoneBible.png
END:VEVENT
BEGIN:VEVENT
DTSTART;TZID=America/Chicago:20231115T180000
DTEND;TZID=America/Chicago:20231115T200000
DTSTAMP:20260425T221404
CREATED:20220113T181915Z
LAST-MODIFIED:20220113T181915Z
UID:10778-1700071200-1700078400@connectchurch.com
SUMMARY:Recharge
DESCRIPTION:WEDNESDAY NIGHTS\nLifeGroups are designed to keep our students connected with peers and in the Word! This meeting time is designed for food\, fun\, hang out while also providing deep\, biblical learning. We know that the school year can be hectic\, but we think it is valuable to carve out time for fellowship in Christ! \n7th – 12th grade | 6-8pm | The Hub
URL:https://connectchurch.com/event/recharge-2-2023-11-15/
ATTACH;FMTTYPE=image/jpeg:https://connectchurch.com/wp-content/uploads/2021/04/wiRechargeWed.jpg
END:VEVENT
BEGIN:VEVENT
DTSTART;TZID=America/Chicago:20231115T183000
DTEND;TZID=America/Chicago:20231115T193000
DTSTAMP:20260425T221404
CREATED:20220113T181612Z
LAST-MODIFIED:20220113T181612Z
UID:9460-1700073000-1700076600@connectchurch.com
SUMMARY:TeamKID
DESCRIPTION:Join TeamKID every Wednesday evening during the school semester for a fun\, high-energy\, Bible and mission based program with games and activities (Lasts until 8pm on Prayer Nights). \n3 yr old – 4 yr old | Preschool Area | 6:30 – 7:30pm\nKindergarten – 6th grade | Kids Area | 6:30 – 7:30pm
URL:https://connectchurch.com/event/teamkid-2023-11-15/
ATTACH;FMTTYPE=image/jpeg:https://connectchurch.com/wp-content/uploads/2021/04/wiTeamKid.jpg
END:VEVENT
BEGIN:VEVENT
DTSTART;TZID=UTC:20231119T090000
DTEND;TZID=UTC:20231119T100000
DTSTAMP:20260425T221404
CREATED:20210422T040207Z
LAST-MODIFIED:20210422T040207Z
UID:9028-1700384400-1700388000@connectchurch.com
SUMMARY:Sunday Morning Discipleship Classes
DESCRIPTION:At Connect Church\, we believe in the transformative power of God’s Word. As we study His Word\, He transforms us into disciples of Jesus Christ — life-long learners and leaders. We offer opportunities for all adults to build a stronger foundation for faith\, family and friendships. \nConnect Student Ministry\nMeeting Time | 9am | The Hub \nMen\nMeeting Time |  9am | Room 134 \nWomen\nMeeting time | 9am | Room 132 \nMillennials and More\nMeeting time | 9am | Room 124 \nStudy of John\nMeeting time | 9am | Room 124
URL:https://connectchurch.com/event/sunday-morning-discipleship-classes-2023-11-19/
ATTACH;FMTTYPE=image/png:https://connectchurch.com/wp-content/uploads/2021/04/nl041521DiscipleshipClasses-1.png
END:VEVENT
BEGIN:VEVENT
DTSTART;TZID=America/Chicago:20231119T090000
DTEND;TZID=America/Chicago:20231119T100000
DTSTAMP:20260425T221404
CREATED:20220215T181550Z
LAST-MODIFIED:20220215T181550Z
UID:9725-1700384400-1700388000@connectchurch.com
SUMMARY:Partnership Class
DESCRIPTION:Have you been attending Connect Church for a while but are not yet a member? Then we invite you to attend our membership class and become a member of Connect Church. Being a member expresses your commitment to be the church that makes disciples of Jesus Christ who love God\, love people and impact the world. Stop by the Next Steps Table today for more info. \nPastor Aalim said a few weeks ago  that being in community is important. In fact\, it is the lifeblood of our church. And while our church has been rocked by the ongoing pandemic\, the transitions in our church\, and a dumpster fire of political and societal division\, we are still here. Connect Church is refocusing and renewing our mission and purpose. \nStop by the Next Steps Table today after the worship service\, where we can answer any of your questions and help you take the next step in getting connected. \nNext Partnership  Class\nSunday\, February 20 at 9am
URL:https://connectchurch.com/event/partnership-class-3-2023-11-19/
END:VEVENT
BEGIN:VEVENT
DTSTART;TZID=America/Chicago:20231122T070000
DTEND;TZID=America/Chicago:20231122T071500
DTSTAMP:20260425T221404
CREATED:20220116T061952Z
LAST-MODIFIED:20220116T061952Z
UID:9643-1700636400-1700637300@connectchurch.com
SUMMARY:Wednesday Morning Prayer Call
DESCRIPTION:Join us for the morning prayer call:\nWednesday 7:00 – 7:15am\nDial in number: (669) 275-1250
URL:https://connectchurch.com/event/wednesday-morning-prayer-call-2023-11-22/
ATTACH;FMTTYPE=image/png:https://connectchurch.com/wp-content/uploads/2022/01/nl011622PhoneBible.png
END:VEVENT
BEGIN:VEVENT
DTSTART;TZID=America/Chicago:20231122T180000
DTEND;TZID=America/Chicago:20231122T200000
DTSTAMP:20260425T221404
CREATED:20220113T181915Z
LAST-MODIFIED:20220113T181915Z
UID:10779-1700676000-1700683200@connectchurch.com
SUMMARY:Recharge
DESCRIPTION:WEDNESDAY NIGHTS\nLifeGroups are designed to keep our students connected with peers and in the Word! This meeting time is designed for food\, fun\, hang out while also providing deep\, biblical learning. We know that the school year can be hectic\, but we think it is valuable to carve out time for fellowship in Christ! \n7th – 12th grade | 6-8pm | The Hub
URL:https://connectchurch.com/event/recharge-2-2023-11-22/
ATTACH;FMTTYPE=image/jpeg:https://connectchurch.com/wp-content/uploads/2021/04/wiRechargeWed.jpg
END:VEVENT
BEGIN:VEVENT
DTSTART;TZID=America/Chicago:20231122T183000
DTEND;TZID=America/Chicago:20231122T193000
DTSTAMP:20260425T221404
CREATED:20220113T181612Z
LAST-MODIFIED:20220113T181612Z
UID:9461-1700677800-1700681400@connectchurch.com
SUMMARY:TeamKID
DESCRIPTION:Join TeamKID every Wednesday evening during the school semester for a fun\, high-energy\, Bible and mission based program with games and activities (Lasts until 8pm on Prayer Nights). \n3 yr old – 4 yr old | Preschool Area | 6:30 – 7:30pm\nKindergarten – 6th grade | Kids Area | 6:30 – 7:30pm
URL:https://connectchurch.com/event/teamkid-2023-11-22/
ATTACH;FMTTYPE=image/jpeg:https://connectchurch.com/wp-content/uploads/2021/04/wiTeamKid.jpg
END:VEVENT
BEGIN:VEVENT
DTSTART;TZID=UTC:20231126T090000
DTEND;TZID=UTC:20231126T100000
DTSTAMP:20260425T221404
CREATED:20210422T040207Z
LAST-MODIFIED:20210422T040207Z
UID:9043-1700989200-1700992800@connectchurch.com
SUMMARY:Sunday Morning Discipleship Classes
DESCRIPTION:At Connect Church\, we believe in the transformative power of God’s Word. As we study His Word\, He transforms us into disciples of Jesus Christ — life-long learners and leaders. We offer opportunities for all adults to build a stronger foundation for faith\, family and friendships. \nConnect Student Ministry\nMeeting Time | 9am | The Hub \nMen\nMeeting Time |  9am | Room 134 \nWomen\nMeeting time | 9am | Room 132 \nMillennials and More\nMeeting time | 9am | Room 124 \nStudy of John\nMeeting time | 9am | Room 124
URL:https://connectchurch.com/event/sunday-morning-discipleship-classes-2023-11-26/
ATTACH;FMTTYPE=image/png:https://connectchurch.com/wp-content/uploads/2021/04/nl041521DiscipleshipClasses-1.png
END:VEVENT
BEGIN:VEVENT
DTSTART;TZID=America/Chicago:20231129T070000
DTEND;TZID=America/Chicago:20231129T071500
DTSTAMP:20260425T221404
CREATED:20220116T061952Z
LAST-MODIFIED:20220116T061952Z
UID:9644-1701241200-1701242100@connectchurch.com
SUMMARY:Wednesday Morning Prayer Call
DESCRIPTION:Join us for the morning prayer call:\nWednesday 7:00 – 7:15am\nDial in number: (669) 275-1250
URL:https://connectchurch.com/event/wednesday-morning-prayer-call-2023-11-29/
ATTACH;FMTTYPE=image/png:https://connectchurch.com/wp-content/uploads/2022/01/nl011622PhoneBible.png
END:VEVENT
BEGIN:VEVENT
DTSTART;TZID=America/Chicago:20231129T180000
DTEND;TZID=America/Chicago:20231129T200000
DTSTAMP:20260425T221404
CREATED:20220113T181915Z
LAST-MODIFIED:20220113T181915Z
UID:10780-1701280800-1701288000@connectchurch.com
SUMMARY:Recharge
DESCRIPTION:WEDNESDAY NIGHTS\nLifeGroups are designed to keep our students connected with peers and in the Word! This meeting time is designed for food\, fun\, hang out while also providing deep\, biblical learning. We know that the school year can be hectic\, but we think it is valuable to carve out time for fellowship in Christ! \n7th – 12th grade | 6-8pm | The Hub
URL:https://connectchurch.com/event/recharge-2-2023-11-29/
ATTACH;FMTTYPE=image/jpeg:https://connectchurch.com/wp-content/uploads/2021/04/wiRechargeWed.jpg
END:VEVENT
BEGIN:VEVENT
DTSTART;TZID=America/Chicago:20231129T183000
DTEND;TZID=America/Chicago:20231129T193000
DTSTAMP:20260425T221404
CREATED:20220113T181612Z
LAST-MODIFIED:20220113T181612Z
UID:9462-1701282600-1701286200@connectchurch.com
SUMMARY:TeamKID
DESCRIPTION:Join TeamKID every Wednesday evening during the school semester for a fun\, high-energy\, Bible and mission based program with games and activities (Lasts until 8pm on Prayer Nights). \n3 yr old – 4 yr old | Preschool Area | 6:30 – 7:30pm\nKindergarten – 6th grade | Kids Area | 6:30 – 7:30pm
URL:https://connectchurch.com/event/teamkid-2023-11-29/
ATTACH;FMTTYPE=image/jpeg:https://connectchurch.com/wp-content/uploads/2021/04/wiTeamKid.jpg
END:VEVENT
END:VCALENDAR