BEGIN:VCALENDAR
VERSION:2.0
PRODID:-//Connect Church - ECPv6.15.18//NONSGML v1.0//EN
CALSCALE:GREGORIAN
METHOD:PUBLISH
X-WR-CALNAME:Connect Church
X-ORIGINAL-URL:https://connectchurch.com
X-WR-CALDESC:Events for Connect Church
REFRESH-INTERVAL;VALUE=DURATION:PT1H
X-Robots-Tag:noindex
X-PUBLISHED-TTL:PT1H
BEGIN:VTIMEZONE
TZID:America/Chicago
BEGIN:DAYLIGHT
TZOFFSETFROM:-0600
TZOFFSETTO:-0500
TZNAME:CDT
DTSTART:20230312T080000
END:DAYLIGHT
BEGIN:STANDARD
TZOFFSETFROM:-0500
TZOFFSETTO:-0600
TZNAME:CST
DTSTART:20231105T070000
END:STANDARD
BEGIN:DAYLIGHT
TZOFFSETFROM:-0600
TZOFFSETTO:-0500
TZNAME:CDT
DTSTART:20240310T080000
END:DAYLIGHT
BEGIN:STANDARD
TZOFFSETFROM:-0500
TZOFFSETTO:-0600
TZNAME:CST
DTSTART:20241103T070000
END:STANDARD
BEGIN:DAYLIGHT
TZOFFSETFROM:-0600
TZOFFSETTO:-0500
TZNAME:CDT
DTSTART:20250309T080000
END:DAYLIGHT
BEGIN:STANDARD
TZOFFSETFROM:-0500
TZOFFSETTO:-0600
TZNAME:CST
DTSTART:20251102T070000
END:STANDARD
BEGIN:DAYLIGHT
TZOFFSETFROM:-0600
TZOFFSETTO:-0500
TZNAME:CDT
DTSTART:20260308T080000
END:DAYLIGHT
BEGIN:STANDARD
TZOFFSETFROM:-0500
TZOFFSETTO:-0600
TZNAME:CST
DTSTART:20261101T070000
END:STANDARD
END:VTIMEZONE
BEGIN:VTIMEZONE
TZID:UTC
BEGIN:STANDARD
TZOFFSETFROM:+0000
TZOFFSETTO:+0000
TZNAME:UTC
DTSTART:20230101T000000
END:STANDARD
END:VTIMEZONE
BEGIN:VEVENT
DTSTART;TZID=America/Chicago:20250101T070000
DTEND;TZID=America/Chicago:20250101T071500
DTSTAMP:20260425T103239
CREATED:20220116T061952Z
LAST-MODIFIED:20220116T061952Z
UID:10576-1735714800-1735715700@connectchurch.com
SUMMARY:Wednesday Morning Prayer Call
DESCRIPTION:Join us for the morning prayer call:\nWednesday 7:00 – 7:15am\nDial in number: (669) 275-1250
URL:https://connectchurch.com/event/wednesday-morning-prayer-call-2025-01-01/
ATTACH;FMTTYPE=image/png:https://connectchurch.com/wp-content/uploads/2022/01/nl011622PhoneBible.png
END:VEVENT
BEGIN:VEVENT
DTSTART;TZID=UTC:20241229T090000
DTEND;TZID=UTC:20241229T100000
DTSTAMP:20260425T103239
CREATED:20210422T040207Z
LAST-MODIFIED:20210422T040207Z
UID:10572-1735462800-1735466400@connectchurch.com
SUMMARY:Sunday Morning Discipleship Classes
DESCRIPTION:At Connect Church\, we believe in the transformative power of God’s Word. As we study His Word\, He transforms us into disciples of Jesus Christ — life-long learners and leaders. We offer opportunities for all adults to build a stronger foundation for faith\, family and friendships. \nConnect Student Ministry\nMeeting Time | 9am | The Hub \nMen\nMeeting Time |  9am | Room 134 \nWomen\nMeeting time | 9am | Room 132 \nMillennials and More\nMeeting time | 9am | Room 124 \nStudy of John\nMeeting time | 9am | Room 124
URL:https://connectchurch.com/event/sunday-morning-discipleship-classes-2024-12-29/
ATTACH;FMTTYPE=image/png:https://connectchurch.com/wp-content/uploads/2021/04/nl041521DiscipleshipClasses-1.png
END:VEVENT
BEGIN:VEVENT
DTSTART;TZID=America/Chicago:20241225T183000
DTEND;TZID=America/Chicago:20241225T193000
DTSTAMP:20260425T103239
CREATED:20220113T181612Z
LAST-MODIFIED:20220113T181612Z
UID:10570-1735151400-1735155000@connectchurch.com
SUMMARY:TeamKID
DESCRIPTION:Join TeamKID every Wednesday evening during the school semester for a fun\, high-energy\, Bible and mission based program with games and activities (Lasts until 8pm on Prayer Nights). \n3 yr old – 4 yr old | Preschool Area | 6:30 – 7:30pm\nKindergarten – 6th grade | Kids Area | 6:30 – 7:30pm
URL:https://connectchurch.com/event/teamkid-2024-12-25/
ATTACH;FMTTYPE=image/jpeg:https://connectchurch.com/wp-content/uploads/2021/04/wiTeamKid.jpg
END:VEVENT
BEGIN:VEVENT
DTSTART;TZID=America/Chicago:20241225T180000
DTEND;TZID=America/Chicago:20241225T200000
DTSTAMP:20260425T103239
CREATED:20220113T181915Z
LAST-MODIFIED:20220113T181915Z
UID:10569-1735149600-1735156800@connectchurch.com
SUMMARY:Recharge
DESCRIPTION:WEDNESDAY NIGHTS\nLifeGroups are designed to keep our students connected with peers and in the Word! This meeting time is designed for food\, fun\, hang out while also providing deep\, biblical learning. We know that the school year can be hectic\, but we think it is valuable to carve out time for fellowship in Christ! \n7th – 12th grade | 6-8pm | The Hub
URL:https://connectchurch.com/event/recharge-2-2024-12-25/
ATTACH;FMTTYPE=image/jpeg:https://connectchurch.com/wp-content/uploads/2021/04/wiRechargeWed.jpg
END:VEVENT
BEGIN:VEVENT
DTSTART;TZID=America/Chicago:20241225T070000
DTEND;TZID=America/Chicago:20241225T071500
DTSTAMP:20260425T103239
CREATED:20220116T061952Z
LAST-MODIFIED:20220116T061952Z
UID:10571-1735110000-1735110900@connectchurch.com
SUMMARY:Wednesday Morning Prayer Call
DESCRIPTION:Join us for the morning prayer call:\nWednesday 7:00 – 7:15am\nDial in number: (669) 275-1250
URL:https://connectchurch.com/event/wednesday-morning-prayer-call-2024-12-25/
ATTACH;FMTTYPE=image/png:https://connectchurch.com/wp-content/uploads/2022/01/nl011622PhoneBible.png
END:VEVENT
BEGIN:VEVENT
DTSTART;TZID=UTC:20241222T090000
DTEND;TZID=UTC:20241222T100000
DTSTAMP:20260425T103239
CREATED:20210422T040207Z
LAST-MODIFIED:20210422T040207Z
UID:10565-1734858000-1734861600@connectchurch.com
SUMMARY:Sunday Morning Discipleship Classes
DESCRIPTION:At Connect Church\, we believe in the transformative power of God’s Word. As we study His Word\, He transforms us into disciples of Jesus Christ — life-long learners and leaders. We offer opportunities for all adults to build a stronger foundation for faith\, family and friendships. \nConnect Student Ministry\nMeeting Time | 9am | The Hub \nMen\nMeeting Time |  9am | Room 134 \nWomen\nMeeting time | 9am | Room 132 \nMillennials and More\nMeeting time | 9am | Room 124 \nStudy of John\nMeeting time | 9am | Room 124
URL:https://connectchurch.com/event/sunday-morning-discipleship-classes-2024-12-22/
ATTACH;FMTTYPE=image/png:https://connectchurch.com/wp-content/uploads/2021/04/nl041521DiscipleshipClasses-1.png
END:VEVENT
BEGIN:VEVENT
DTSTART;TZID=America/Chicago:20241218T183000
DTEND;TZID=America/Chicago:20241218T193000
DTSTAMP:20260425T103239
CREATED:20220113T181612Z
LAST-MODIFIED:20220113T181612Z
UID:10563-1734546600-1734550200@connectchurch.com
SUMMARY:TeamKID
DESCRIPTION:Join TeamKID every Wednesday evening during the school semester for a fun\, high-energy\, Bible and mission based program with games and activities (Lasts until 8pm on Prayer Nights). \n3 yr old – 4 yr old | Preschool Area | 6:30 – 7:30pm\nKindergarten – 6th grade | Kids Area | 6:30 – 7:30pm
URL:https://connectchurch.com/event/teamkid-2024-12-18/
ATTACH;FMTTYPE=image/jpeg:https://connectchurch.com/wp-content/uploads/2021/04/wiTeamKid.jpg
END:VEVENT
BEGIN:VEVENT
DTSTART;TZID=America/Chicago:20241218T180000
DTEND;TZID=America/Chicago:20241218T200000
DTSTAMP:20260425T103239
CREATED:20220113T181915Z
LAST-MODIFIED:20220113T181915Z
UID:10562-1734544800-1734552000@connectchurch.com
SUMMARY:Recharge
DESCRIPTION:WEDNESDAY NIGHTS\nLifeGroups are designed to keep our students connected with peers and in the Word! This meeting time is designed for food\, fun\, hang out while also providing deep\, biblical learning. We know that the school year can be hectic\, but we think it is valuable to carve out time for fellowship in Christ! \n7th – 12th grade | 6-8pm | The Hub
URL:https://connectchurch.com/event/recharge-2-2024-12-18/
ATTACH;FMTTYPE=image/jpeg:https://connectchurch.com/wp-content/uploads/2021/04/wiRechargeWed.jpg
END:VEVENT
BEGIN:VEVENT
DTSTART;TZID=America/Chicago:20241218T070000
DTEND;TZID=America/Chicago:20241218T071500
DTSTAMP:20260425T103239
CREATED:20220116T061952Z
LAST-MODIFIED:20220116T061952Z
UID:10564-1734505200-1734506100@connectchurch.com
SUMMARY:Wednesday Morning Prayer Call
DESCRIPTION:Join us for the morning prayer call:\nWednesday 7:00 – 7:15am\nDial in number: (669) 275-1250
URL:https://connectchurch.com/event/wednesday-morning-prayer-call-2024-12-18/
ATTACH;FMTTYPE=image/png:https://connectchurch.com/wp-content/uploads/2022/01/nl011622PhoneBible.png
END:VEVENT
BEGIN:VEVENT
DTSTART;TZID=America/Chicago:20241215T090000
DTEND;TZID=America/Chicago:20241215T100000
DTSTAMP:20260425T103239
CREATED:20220215T181550Z
LAST-MODIFIED:20220215T181550Z
UID:10558-1734253200-1734256800@connectchurch.com
SUMMARY:Partnership Class
DESCRIPTION:Have you been attending Connect Church for a while but are not yet a member? Then we invite you to attend our membership class and become a member of Connect Church. Being a member expresses your commitment to be the church that makes disciples of Jesus Christ who love God\, love people and impact the world. Stop by the Next Steps Table today for more info. \nPastor Aalim said a few weeks ago  that being in community is important. In fact\, it is the lifeblood of our church. And while our church has been rocked by the ongoing pandemic\, the transitions in our church\, and a dumpster fire of political and societal division\, we are still here. Connect Church is refocusing and renewing our mission and purpose. \nStop by the Next Steps Table today after the worship service\, where we can answer any of your questions and help you take the next step in getting connected. \nNext Partnership  Class\nSunday\, February 20 at 9am
URL:https://connectchurch.com/event/partnership-class-3-2024-12-15/
END:VEVENT
BEGIN:VEVENT
DTSTART;TZID=UTC:20241215T090000
DTEND;TZID=UTC:20241215T100000
DTSTAMP:20260425T103239
CREATED:20210422T040207Z
LAST-MODIFIED:20210422T040207Z
UID:10559-1734253200-1734256800@connectchurch.com
SUMMARY:Sunday Morning Discipleship Classes
DESCRIPTION:At Connect Church\, we believe in the transformative power of God’s Word. As we study His Word\, He transforms us into disciples of Jesus Christ — life-long learners and leaders. We offer opportunities for all adults to build a stronger foundation for faith\, family and friendships. \nConnect Student Ministry\nMeeting Time | 9am | The Hub \nMen\nMeeting Time |  9am | Room 134 \nWomen\nMeeting time | 9am | Room 132 \nMillennials and More\nMeeting time | 9am | Room 124 \nStudy of John\nMeeting time | 9am | Room 124
URL:https://connectchurch.com/event/sunday-morning-discipleship-classes-2024-12-15/
ATTACH;FMTTYPE=image/png:https://connectchurch.com/wp-content/uploads/2021/04/nl041521DiscipleshipClasses-1.png
END:VEVENT
BEGIN:VEVENT
DTSTART;TZID=America/Chicago:20241211T183000
DTEND;TZID=America/Chicago:20241211T193000
DTSTAMP:20260425T103239
CREATED:20220113T181612Z
LAST-MODIFIED:20220113T181612Z
UID:10556-1733941800-1733945400@connectchurch.com
SUMMARY:TeamKID
DESCRIPTION:Join TeamKID every Wednesday evening during the school semester for a fun\, high-energy\, Bible and mission based program with games and activities (Lasts until 8pm on Prayer Nights). \n3 yr old – 4 yr old | Preschool Area | 6:30 – 7:30pm\nKindergarten – 6th grade | Kids Area | 6:30 – 7:30pm
URL:https://connectchurch.com/event/teamkid-2024-12-11/
ATTACH;FMTTYPE=image/jpeg:https://connectchurch.com/wp-content/uploads/2021/04/wiTeamKid.jpg
END:VEVENT
BEGIN:VEVENT
DTSTART;TZID=America/Chicago:20241211T180000
DTEND;TZID=America/Chicago:20241211T200000
DTSTAMP:20260425T103239
CREATED:20220113T181915Z
LAST-MODIFIED:20220113T181915Z
UID:10555-1733940000-1733947200@connectchurch.com
SUMMARY:Recharge
DESCRIPTION:WEDNESDAY NIGHTS\nLifeGroups are designed to keep our students connected with peers and in the Word! This meeting time is designed for food\, fun\, hang out while also providing deep\, biblical learning. We know that the school year can be hectic\, but we think it is valuable to carve out time for fellowship in Christ! \n7th – 12th grade | 6-8pm | The Hub
URL:https://connectchurch.com/event/recharge-2-2024-12-11/
ATTACH;FMTTYPE=image/jpeg:https://connectchurch.com/wp-content/uploads/2021/04/wiRechargeWed.jpg
END:VEVENT
BEGIN:VEVENT
DTSTART;TZID=America/Chicago:20241211T070000
DTEND;TZID=America/Chicago:20241211T071500
DTSTAMP:20260425T103239
CREATED:20220116T061952Z
LAST-MODIFIED:20220116T061952Z
UID:10557-1733900400-1733901300@connectchurch.com
SUMMARY:Wednesday Morning Prayer Call
DESCRIPTION:Join us for the morning prayer call:\nWednesday 7:00 – 7:15am\nDial in number: (669) 275-1250
URL:https://connectchurch.com/event/wednesday-morning-prayer-call-2024-12-11/
ATTACH;FMTTYPE=image/png:https://connectchurch.com/wp-content/uploads/2022/01/nl011622PhoneBible.png
END:VEVENT
BEGIN:VEVENT
DTSTART;TZID=UTC:20241208T090000
DTEND;TZID=UTC:20241208T100000
DTSTAMP:20260425T103239
CREATED:20210422T040207Z
LAST-MODIFIED:20210422T040207Z
UID:10552-1733648400-1733652000@connectchurch.com
SUMMARY:Sunday Morning Discipleship Classes
DESCRIPTION:At Connect Church\, we believe in the transformative power of God’s Word. As we study His Word\, He transforms us into disciples of Jesus Christ — life-long learners and leaders. We offer opportunities for all adults to build a stronger foundation for faith\, family and friendships. \nConnect Student Ministry\nMeeting Time | 9am | The Hub \nMen\nMeeting Time |  9am | Room 134 \nWomen\nMeeting time | 9am | Room 132 \nMillennials and More\nMeeting time | 9am | Room 124 \nStudy of John\nMeeting time | 9am | Room 124
URL:https://connectchurch.com/event/sunday-morning-discipleship-classes-2024-12-08/
ATTACH;FMTTYPE=image/png:https://connectchurch.com/wp-content/uploads/2021/04/nl041521DiscipleshipClasses-1.png
END:VEVENT
BEGIN:VEVENT
DTSTART;TZID=America/Chicago:20241204T183000
DTEND;TZID=America/Chicago:20241204T193000
DTSTAMP:20260425T103239
CREATED:20220113T181612Z
LAST-MODIFIED:20220113T181612Z
UID:10550-1733337000-1733340600@connectchurch.com
SUMMARY:TeamKID
DESCRIPTION:Join TeamKID every Wednesday evening during the school semester for a fun\, high-energy\, Bible and mission based program with games and activities (Lasts until 8pm on Prayer Nights). \n3 yr old – 4 yr old | Preschool Area | 6:30 – 7:30pm\nKindergarten – 6th grade | Kids Area | 6:30 – 7:30pm
URL:https://connectchurch.com/event/teamkid-2024-12-04/
ATTACH;FMTTYPE=image/jpeg:https://connectchurch.com/wp-content/uploads/2021/04/wiTeamKid.jpg
END:VEVENT
BEGIN:VEVENT
DTSTART;TZID=America/Chicago:20241204T180000
DTEND;TZID=America/Chicago:20241204T200000
DTSTAMP:20260425T103239
CREATED:20220113T181915Z
LAST-MODIFIED:20220113T181915Z
UID:10549-1733335200-1733342400@connectchurch.com
SUMMARY:Recharge
DESCRIPTION:WEDNESDAY NIGHTS\nLifeGroups are designed to keep our students connected with peers and in the Word! This meeting time is designed for food\, fun\, hang out while also providing deep\, biblical learning. We know that the school year can be hectic\, but we think it is valuable to carve out time for fellowship in Christ! \n7th – 12th grade | 6-8pm | The Hub
URL:https://connectchurch.com/event/recharge-2-2024-12-04/
ATTACH;FMTTYPE=image/jpeg:https://connectchurch.com/wp-content/uploads/2021/04/wiRechargeWed.jpg
END:VEVENT
BEGIN:VEVENT
DTSTART;TZID=America/Chicago:20241204T180000
DTEND;TZID=America/Chicago:20241204T190000
DTSTAMP:20260425T103239
CREATED:20220116T061005Z
LAST-MODIFIED:20220116T061005Z
UID:10548-1733335200-1733338800@connectchurch.com
SUMMARY:First Wednesday Dinner and Prayer
DESCRIPTION:“Don’t worry about anything; instead\, pray about everything. Tell God what you need\, and thank him for all he has done.”\n— Philippians 4:6  \nJoin us for our monthly church-wide Dinner and Prayer. Come and bring your petitions to the Lord\, and join us as we seek His continued direction for our church. We will gather at on the first Wednesday at 6 pm for a family dinner and 6:30 pm for prayer.
URL:https://connectchurch.com/event/first-wednesday-dinner-and-prayer-2024-12-04/
ATTACH;FMTTYPE=image/png:https://connectchurch.com/wp-content/uploads/2022/01/wi1stWednesdayPrayer.png
END:VEVENT
BEGIN:VEVENT
DTSTART;TZID=America/Chicago:20241204T070000
DTEND;TZID=America/Chicago:20241204T071500
DTSTAMP:20260425T103239
CREATED:20220116T061952Z
LAST-MODIFIED:20220116T061952Z
UID:10551-1733295600-1733296500@connectchurch.com
SUMMARY:Wednesday Morning Prayer Call
DESCRIPTION:Join us for the morning prayer call:\nWednesday 7:00 – 7:15am\nDial in number: (669) 275-1250
URL:https://connectchurch.com/event/wednesday-morning-prayer-call-2024-12-04/
ATTACH;FMTTYPE=image/png:https://connectchurch.com/wp-content/uploads/2022/01/nl011622PhoneBible.png
END:VEVENT
BEGIN:VEVENT
DTSTART;TZID=UTC:20241201T090000
DTEND;TZID=UTC:20241201T100000
DTSTAMP:20260425T103239
CREATED:20210422T040207Z
LAST-MODIFIED:20210422T040207Z
UID:10526-1733043600-1733047200@connectchurch.com
SUMMARY:Sunday Morning Discipleship Classes
DESCRIPTION:At Connect Church\, we believe in the transformative power of God’s Word. As we study His Word\, He transforms us into disciples of Jesus Christ — life-long learners and leaders. We offer opportunities for all adults to build a stronger foundation for faith\, family and friendships. \nConnect Student Ministry\nMeeting Time | 9am | The Hub \nMen\nMeeting Time |  9am | Room 134 \nWomen\nMeeting time | 9am | Room 132 \nMillennials and More\nMeeting time | 9am | Room 124 \nStudy of John\nMeeting time | 9am | Room 124
URL:https://connectchurch.com/event/sunday-morning-discipleship-classes-2024-12-01/
ATTACH;FMTTYPE=image/png:https://connectchurch.com/wp-content/uploads/2021/04/nl041521DiscipleshipClasses-1.png
END:VEVENT
BEGIN:VEVENT
DTSTART;TZID=America/Chicago:20241127T183000
DTEND;TZID=America/Chicago:20241127T193000
DTSTAMP:20260425T103239
CREATED:20220113T181612Z
LAST-MODIFIED:20220113T181612Z
UID:10520-1732732200-1732735800@connectchurch.com
SUMMARY:TeamKID
DESCRIPTION:Join TeamKID every Wednesday evening during the school semester for a fun\, high-energy\, Bible and mission based program with games and activities (Lasts until 8pm on Prayer Nights). \n3 yr old – 4 yr old | Preschool Area | 6:30 – 7:30pm\nKindergarten – 6th grade | Kids Area | 6:30 – 7:30pm
URL:https://connectchurch.com/event/teamkid-2024-11-27/
ATTACH;FMTTYPE=image/jpeg:https://connectchurch.com/wp-content/uploads/2021/04/wiTeamKid.jpg
END:VEVENT
BEGIN:VEVENT
DTSTART;TZID=America/Chicago:20241127T180000
DTEND;TZID=America/Chicago:20241127T200000
DTSTAMP:20260425T103239
CREATED:20220113T181915Z
LAST-MODIFIED:20220113T181915Z
UID:10519-1732730400-1732737600@connectchurch.com
SUMMARY:Recharge
DESCRIPTION:WEDNESDAY NIGHTS\nLifeGroups are designed to keep our students connected with peers and in the Word! This meeting time is designed for food\, fun\, hang out while also providing deep\, biblical learning. We know that the school year can be hectic\, but we think it is valuable to carve out time for fellowship in Christ! \n7th – 12th grade | 6-8pm | The Hub
URL:https://connectchurch.com/event/recharge-2-2024-11-27/
ATTACH;FMTTYPE=image/jpeg:https://connectchurch.com/wp-content/uploads/2021/04/wiRechargeWed.jpg
END:VEVENT
BEGIN:VEVENT
DTSTART;TZID=America/Chicago:20241127T070000
DTEND;TZID=America/Chicago:20241127T071500
DTSTAMP:20260425T103239
CREATED:20220116T061952Z
LAST-MODIFIED:20220116T061952Z
UID:10521-1732690800-1732691700@connectchurch.com
SUMMARY:Wednesday Morning Prayer Call
DESCRIPTION:Join us for the morning prayer call:\nWednesday 7:00 – 7:15am\nDial in number: (669) 275-1250
URL:https://connectchurch.com/event/wednesday-morning-prayer-call-2024-11-27/
ATTACH;FMTTYPE=image/png:https://connectchurch.com/wp-content/uploads/2022/01/nl011622PhoneBible.png
END:VEVENT
BEGIN:VEVENT
DTSTART;TZID=UTC:20241124T090000
DTEND;TZID=UTC:20241124T100000
DTSTAMP:20260425T103239
CREATED:20210422T040207Z
LAST-MODIFIED:20210422T040207Z
UID:10515-1732438800-1732442400@connectchurch.com
SUMMARY:Sunday Morning Discipleship Classes
DESCRIPTION:At Connect Church\, we believe in the transformative power of God’s Word. As we study His Word\, He transforms us into disciples of Jesus Christ — life-long learners and leaders. We offer opportunities for all adults to build a stronger foundation for faith\, family and friendships. \nConnect Student Ministry\nMeeting Time | 9am | The Hub \nMen\nMeeting Time |  9am | Room 134 \nWomen\nMeeting time | 9am | Room 132 \nMillennials and More\nMeeting time | 9am | Room 124 \nStudy of John\nMeeting time | 9am | Room 124
URL:https://connectchurch.com/event/sunday-morning-discipleship-classes-2024-11-24/
ATTACH;FMTTYPE=image/png:https://connectchurch.com/wp-content/uploads/2021/04/nl041521DiscipleshipClasses-1.png
END:VEVENT
BEGIN:VEVENT
DTSTART;TZID=America/Chicago:20241120T183000
DTEND;TZID=America/Chicago:20241120T193000
DTSTAMP:20260425T103239
CREATED:20220113T181612Z
LAST-MODIFIED:20220113T181612Z
UID:10513-1732127400-1732131000@connectchurch.com
SUMMARY:TeamKID
DESCRIPTION:Join TeamKID every Wednesday evening during the school semester for a fun\, high-energy\, Bible and mission based program with games and activities (Lasts until 8pm on Prayer Nights). \n3 yr old – 4 yr old | Preschool Area | 6:30 – 7:30pm\nKindergarten – 6th grade | Kids Area | 6:30 – 7:30pm
URL:https://connectchurch.com/event/teamkid-2024-11-20/
ATTACH;FMTTYPE=image/jpeg:https://connectchurch.com/wp-content/uploads/2021/04/wiTeamKid.jpg
END:VEVENT
BEGIN:VEVENT
DTSTART;TZID=America/Chicago:20241120T180000
DTEND;TZID=America/Chicago:20241120T200000
DTSTAMP:20260425T103239
CREATED:20220113T181915Z
LAST-MODIFIED:20220113T181915Z
UID:10512-1732125600-1732132800@connectchurch.com
SUMMARY:Recharge
DESCRIPTION:WEDNESDAY NIGHTS\nLifeGroups are designed to keep our students connected with peers and in the Word! This meeting time is designed for food\, fun\, hang out while also providing deep\, biblical learning. We know that the school year can be hectic\, but we think it is valuable to carve out time for fellowship in Christ! \n7th – 12th grade | 6-8pm | The Hub
URL:https://connectchurch.com/event/recharge-2-2024-11-20/
ATTACH;FMTTYPE=image/jpeg:https://connectchurch.com/wp-content/uploads/2021/04/wiRechargeWed.jpg
END:VEVENT
BEGIN:VEVENT
DTSTART;TZID=America/Chicago:20241120T070000
DTEND;TZID=America/Chicago:20241120T071500
DTSTAMP:20260425T103239
CREATED:20220116T061952Z
LAST-MODIFIED:20220116T061952Z
UID:10514-1732086000-1732086900@connectchurch.com
SUMMARY:Wednesday Morning Prayer Call
DESCRIPTION:Join us for the morning prayer call:\nWednesday 7:00 – 7:15am\nDial in number: (669) 275-1250
URL:https://connectchurch.com/event/wednesday-morning-prayer-call-2024-11-20/
ATTACH;FMTTYPE=image/png:https://connectchurch.com/wp-content/uploads/2022/01/nl011622PhoneBible.png
END:VEVENT
BEGIN:VEVENT
DTSTART;TZID=America/Chicago:20241117T090000
DTEND;TZID=America/Chicago:20241117T100000
DTSTAMP:20260425T103239
CREATED:20220215T181550Z
LAST-MODIFIED:20220215T181550Z
UID:10508-1731834000-1731837600@connectchurch.com
SUMMARY:Partnership Class
DESCRIPTION:Have you been attending Connect Church for a while but are not yet a member? Then we invite you to attend our membership class and become a member of Connect Church. Being a member expresses your commitment to be the church that makes disciples of Jesus Christ who love God\, love people and impact the world. Stop by the Next Steps Table today for more info. \nPastor Aalim said a few weeks ago  that being in community is important. In fact\, it is the lifeblood of our church. And while our church has been rocked by the ongoing pandemic\, the transitions in our church\, and a dumpster fire of political and societal division\, we are still here. Connect Church is refocusing and renewing our mission and purpose. \nStop by the Next Steps Table today after the worship service\, where we can answer any of your questions and help you take the next step in getting connected. \nNext Partnership  Class\nSunday\, February 20 at 9am
URL:https://connectchurch.com/event/partnership-class-3-2024-11-17/
END:VEVENT
BEGIN:VEVENT
DTSTART;TZID=UTC:20241117T090000
DTEND;TZID=UTC:20241117T100000
DTSTAMP:20260425T103240
CREATED:20210422T040207Z
LAST-MODIFIED:20210422T040207Z
UID:10509-1731834000-1731837600@connectchurch.com
SUMMARY:Sunday Morning Discipleship Classes
DESCRIPTION:At Connect Church\, we believe in the transformative power of God’s Word. As we study His Word\, He transforms us into disciples of Jesus Christ — life-long learners and leaders. We offer opportunities for all adults to build a stronger foundation for faith\, family and friendships. \nConnect Student Ministry\nMeeting Time | 9am | The Hub \nMen\nMeeting Time |  9am | Room 134 \nWomen\nMeeting time | 9am | Room 132 \nMillennials and More\nMeeting time | 9am | Room 124 \nStudy of John\nMeeting time | 9am | Room 124
URL:https://connectchurch.com/event/sunday-morning-discipleship-classes-2024-11-17/
ATTACH;FMTTYPE=image/png:https://connectchurch.com/wp-content/uploads/2021/04/nl041521DiscipleshipClasses-1.png
END:VEVENT
BEGIN:VEVENT
DTSTART;TZID=America/Chicago:20241113T183000
DTEND;TZID=America/Chicago:20241113T193000
DTSTAMP:20260425T103240
CREATED:20220113T181612Z
LAST-MODIFIED:20220113T181612Z
UID:10481-1731522600-1731526200@connectchurch.com
SUMMARY:TeamKID
DESCRIPTION:Join TeamKID every Wednesday evening during the school semester for a fun\, high-energy\, Bible and mission based program with games and activities (Lasts until 8pm on Prayer Nights). \n3 yr old – 4 yr old | Preschool Area | 6:30 – 7:30pm\nKindergarten – 6th grade | Kids Area | 6:30 – 7:30pm
URL:https://connectchurch.com/event/teamkid-2024-11-13/
ATTACH;FMTTYPE=image/jpeg:https://connectchurch.com/wp-content/uploads/2021/04/wiTeamKid.jpg
END:VEVENT
END:VCALENDAR