BEGIN:VCALENDAR
VERSION:2.0
PRODID:-//Connect Church - ECPv6.15.18//NONSGML v1.0//EN
CALSCALE:GREGORIAN
METHOD:PUBLISH
X-ORIGINAL-URL:https://connectchurch.com
X-WR-CALDESC:Events for Connect Church
REFRESH-INTERVAL;VALUE=DURATION:PT1H
X-Robots-Tag:noindex
X-PUBLISHED-TTL:PT1H
BEGIN:VTIMEZONE
TZID:America/Chicago
BEGIN:DAYLIGHT
TZOFFSETFROM:-0600
TZOFFSETTO:-0500
TZNAME:CDT
DTSTART:20240310T080000
END:DAYLIGHT
BEGIN:STANDARD
TZOFFSETFROM:-0500
TZOFFSETTO:-0600
TZNAME:CST
DTSTART:20241103T070000
END:STANDARD
BEGIN:DAYLIGHT
TZOFFSETFROM:-0600
TZOFFSETTO:-0500
TZNAME:CDT
DTSTART:20250309T080000
END:DAYLIGHT
BEGIN:STANDARD
TZOFFSETFROM:-0500
TZOFFSETTO:-0600
TZNAME:CST
DTSTART:20251102T070000
END:STANDARD
BEGIN:DAYLIGHT
TZOFFSETFROM:-0600
TZOFFSETTO:-0500
TZNAME:CDT
DTSTART:20260308T080000
END:DAYLIGHT
BEGIN:STANDARD
TZOFFSETFROM:-0500
TZOFFSETTO:-0600
TZNAME:CST
DTSTART:20261101T070000
END:STANDARD
END:VTIMEZONE
BEGIN:VTIMEZONE
TZID:UTC
BEGIN:STANDARD
TZOFFSETFROM:+0000
TZOFFSETTO:+0000
TZNAME:UTC
DTSTART:20240101T000000
END:STANDARD
END:VTIMEZONE
BEGIN:VEVENT
DTSTART;TZID=America/Chicago:20250409T183000
DTEND;TZID=America/Chicago:20250409T193000
DTSTAMP:20260425T113748
CREATED:20220113T181612Z
LAST-MODIFIED:20220113T181612Z
UID:11158-1744223400-1744227000@connectchurch.com
SUMMARY:TeamKID
DESCRIPTION:Join TeamKID every Wednesday evening during the school semester for a fun\, high-energy\, Bible and mission based program with games and activities (Lasts until 8pm on Prayer Nights). \n3 yr old – 4 yr old | Preschool Area | 6:30 – 7:30pm\nKindergarten – 6th grade | Kids Area | 6:30 – 7:30pm
URL:https://connectchurch.com/event/teamkid-2025-04-09/
ATTACH;FMTTYPE=image/jpeg:https://connectchurch.com/wp-content/uploads/2021/04/wiTeamKid.jpg
END:VEVENT
BEGIN:VEVENT
DTSTART;TZID=UTC:20250413T090000
DTEND;TZID=UTC:20250413T100000
DTSTAMP:20260425T113748
CREATED:20210422T040207Z
LAST-MODIFIED:20210422T040207Z
UID:11160-1744534800-1744538400@connectchurch.com
SUMMARY:Sunday Morning Discipleship Classes
DESCRIPTION:At Connect Church\, we believe in the transformative power of God’s Word. As we study His Word\, He transforms us into disciples of Jesus Christ — life-long learners and leaders. We offer opportunities for all adults to build a stronger foundation for faith\, family and friendships. \nConnect Student Ministry\nMeeting Time | 9am | The Hub \nMen\nMeeting Time |  9am | Room 134 \nWomen\nMeeting time | 9am | Room 132 \nMillennials and More\nMeeting time | 9am | Room 124 \nStudy of John\nMeeting time | 9am | Room 124
URL:https://connectchurch.com/event/sunday-morning-discipleship-classes-2025-04-13/
ATTACH;FMTTYPE=image/png:https://connectchurch.com/wp-content/uploads/2021/04/nl041521DiscipleshipClasses-1.png
END:VEVENT
BEGIN:VEVENT
DTSTART;TZID=America/Chicago:20250416T070000
DTEND;TZID=America/Chicago:20250416T071500
DTSTAMP:20260425T113748
CREATED:20220116T061952Z
LAST-MODIFIED:20220116T061952Z
UID:11168-1744786800-1744787700@connectchurch.com
SUMMARY:Wednesday Morning Prayer Call
DESCRIPTION:Join us for the morning prayer call:\nWednesday 7:00 – 7:15am\nDial in number: (669) 275-1250
URL:https://connectchurch.com/event/wednesday-morning-prayer-call-2025-04-16/
ATTACH;FMTTYPE=image/png:https://connectchurch.com/wp-content/uploads/2022/01/nl011622PhoneBible.png
END:VEVENT
BEGIN:VEVENT
DTSTART;TZID=America/Chicago:20250416T180000
DTEND;TZID=America/Chicago:20250416T200000
DTSTAMP:20260425T113748
CREATED:20220113T181915Z
LAST-MODIFIED:20220113T181915Z
UID:11166-1744826400-1744833600@connectchurch.com
SUMMARY:Recharge
DESCRIPTION:WEDNESDAY NIGHTS\nLifeGroups are designed to keep our students connected with peers and in the Word! This meeting time is designed for food\, fun\, hang out while also providing deep\, biblical learning. We know that the school year can be hectic\, but we think it is valuable to carve out time for fellowship in Christ! \n7th – 12th grade | 6-8pm | The Hub
URL:https://connectchurch.com/event/recharge-2-2025-04-16/
ATTACH;FMTTYPE=image/jpeg:https://connectchurch.com/wp-content/uploads/2021/04/wiRechargeWed.jpg
END:VEVENT
BEGIN:VEVENT
DTSTART;TZID=America/Chicago:20250416T183000
DTEND;TZID=America/Chicago:20250416T193000
DTSTAMP:20260425T113748
CREATED:20220113T181612Z
LAST-MODIFIED:20220113T181612Z
UID:11167-1744828200-1744831800@connectchurch.com
SUMMARY:TeamKID
DESCRIPTION:Join TeamKID every Wednesday evening during the school semester for a fun\, high-energy\, Bible and mission based program with games and activities (Lasts until 8pm on Prayer Nights). \n3 yr old – 4 yr old | Preschool Area | 6:30 – 7:30pm\nKindergarten – 6th grade | Kids Area | 6:30 – 7:30pm
URL:https://connectchurch.com/event/teamkid-2025-04-16/
ATTACH;FMTTYPE=image/jpeg:https://connectchurch.com/wp-content/uploads/2021/04/wiTeamKid.jpg
END:VEVENT
BEGIN:VEVENT
DTSTART;TZID=UTC:20250420T090000
DTEND;TZID=UTC:20250420T100000
DTSTAMP:20260425T113748
CREATED:20210422T040207Z
LAST-MODIFIED:20210422T040207Z
UID:11176-1745139600-1745143200@connectchurch.com
SUMMARY:Sunday Morning Discipleship Classes
DESCRIPTION:At Connect Church\, we believe in the transformative power of God’s Word. As we study His Word\, He transforms us into disciples of Jesus Christ — life-long learners and leaders. We offer opportunities for all adults to build a stronger foundation for faith\, family and friendships. \nConnect Student Ministry\nMeeting Time | 9am | The Hub \nMen\nMeeting Time |  9am | Room 134 \nWomen\nMeeting time | 9am | Room 132 \nMillennials and More\nMeeting time | 9am | Room 124 \nStudy of John\nMeeting time | 9am | Room 124
URL:https://connectchurch.com/event/sunday-morning-discipleship-classes-2025-04-20/
ATTACH;FMTTYPE=image/png:https://connectchurch.com/wp-content/uploads/2021/04/nl041521DiscipleshipClasses-1.png
END:VEVENT
BEGIN:VEVENT
DTSTART;TZID=America/Chicago:20250420T090000
DTEND;TZID=America/Chicago:20250420T100000
DTSTAMP:20260425T113748
CREATED:20220215T181550Z
LAST-MODIFIED:20220215T181550Z
UID:11175-1745139600-1745143200@connectchurch.com
SUMMARY:Partnership Class
DESCRIPTION:Have you been attending Connect Church for a while but are not yet a member? Then we invite you to attend our membership class and become a member of Connect Church. Being a member expresses your commitment to be the church that makes disciples of Jesus Christ who love God\, love people and impact the world. Stop by the Next Steps Table today for more info. \nPastor Aalim said a few weeks ago  that being in community is important. In fact\, it is the lifeblood of our church. And while our church has been rocked by the ongoing pandemic\, the transitions in our church\, and a dumpster fire of political and societal division\, we are still here. Connect Church is refocusing and renewing our mission and purpose. \nStop by the Next Steps Table today after the worship service\, where we can answer any of your questions and help you take the next step in getting connected. \nNext Partnership  Class\nSunday\, February 20 at 9am
URL:https://connectchurch.com/event/partnership-class-3-2025-04-20/
END:VEVENT
BEGIN:VEVENT
DTSTART;TZID=America/Chicago:20250423T070000
DTEND;TZID=America/Chicago:20250423T071500
DTSTAMP:20260425T113748
CREATED:20220116T061952Z
LAST-MODIFIED:20220116T061952Z
UID:11179-1745391600-1745392500@connectchurch.com
SUMMARY:Wednesday Morning Prayer Call
DESCRIPTION:Join us for the morning prayer call:\nWednesday 7:00 – 7:15am\nDial in number: (669) 275-1250
URL:https://connectchurch.com/event/wednesday-morning-prayer-call-2025-04-23/
ATTACH;FMTTYPE=image/png:https://connectchurch.com/wp-content/uploads/2022/01/nl011622PhoneBible.png
END:VEVENT
BEGIN:VEVENT
DTSTART;TZID=America/Chicago:20250423T180000
DTEND;TZID=America/Chicago:20250423T200000
DTSTAMP:20260425T113748
CREATED:20220113T181915Z
LAST-MODIFIED:20220113T181915Z
UID:11177-1745431200-1745438400@connectchurch.com
SUMMARY:Recharge
DESCRIPTION:WEDNESDAY NIGHTS\nLifeGroups are designed to keep our students connected with peers and in the Word! This meeting time is designed for food\, fun\, hang out while also providing deep\, biblical learning. We know that the school year can be hectic\, but we think it is valuable to carve out time for fellowship in Christ! \n7th – 12th grade | 6-8pm | The Hub
URL:https://connectchurch.com/event/recharge-2-2025-04-23/
ATTACH;FMTTYPE=image/jpeg:https://connectchurch.com/wp-content/uploads/2021/04/wiRechargeWed.jpg
END:VEVENT
BEGIN:VEVENT
DTSTART;TZID=America/Chicago:20250423T183000
DTEND;TZID=America/Chicago:20250423T193000
DTSTAMP:20260425T113748
CREATED:20220113T181612Z
LAST-MODIFIED:20220113T181612Z
UID:11178-1745433000-1745436600@connectchurch.com
SUMMARY:TeamKID
DESCRIPTION:Join TeamKID every Wednesday evening during the school semester for a fun\, high-energy\, Bible and mission based program with games and activities (Lasts until 8pm on Prayer Nights). \n3 yr old – 4 yr old | Preschool Area | 6:30 – 7:30pm\nKindergarten – 6th grade | Kids Area | 6:30 – 7:30pm
URL:https://connectchurch.com/event/teamkid-2025-04-23/
ATTACH;FMTTYPE=image/jpeg:https://connectchurch.com/wp-content/uploads/2021/04/wiTeamKid.jpg
END:VEVENT
BEGIN:VEVENT
DTSTART;TZID=UTC:20250427T090000
DTEND;TZID=UTC:20250427T100000
DTSTAMP:20260425T113748
CREATED:20210422T040207Z
LAST-MODIFIED:20210422T040207Z
UID:11183-1745744400-1745748000@connectchurch.com
SUMMARY:Sunday Morning Discipleship Classes
DESCRIPTION:At Connect Church\, we believe in the transformative power of God’s Word. As we study His Word\, He transforms us into disciples of Jesus Christ — life-long learners and leaders. We offer opportunities for all adults to build a stronger foundation for faith\, family and friendships. \nConnect Student Ministry\nMeeting Time | 9am | The Hub \nMen\nMeeting Time |  9am | Room 134 \nWomen\nMeeting time | 9am | Room 132 \nMillennials and More\nMeeting time | 9am | Room 124 \nStudy of John\nMeeting time | 9am | Room 124
URL:https://connectchurch.com/event/sunday-morning-discipleship-classes-2025-04-27/
ATTACH;FMTTYPE=image/png:https://connectchurch.com/wp-content/uploads/2021/04/nl041521DiscipleshipClasses-1.png
END:VEVENT
BEGIN:VEVENT
DTSTART;TZID=America/Chicago:20250430T070000
DTEND;TZID=America/Chicago:20250430T071500
DTSTAMP:20260425T113748
CREATED:20220116T061952Z
LAST-MODIFIED:20220116T061952Z
UID:11188-1745996400-1745997300@connectchurch.com
SUMMARY:Wednesday Morning Prayer Call
DESCRIPTION:Join us for the morning prayer call:\nWednesday 7:00 – 7:15am\nDial in number: (669) 275-1250
URL:https://connectchurch.com/event/wednesday-morning-prayer-call-2025-04-30/
ATTACH;FMTTYPE=image/png:https://connectchurch.com/wp-content/uploads/2022/01/nl011622PhoneBible.png
END:VEVENT
BEGIN:VEVENT
DTSTART;TZID=America/Chicago:20250430T180000
DTEND;TZID=America/Chicago:20250430T200000
DTSTAMP:20260425T113748
CREATED:20220113T181915Z
LAST-MODIFIED:20220113T181915Z
UID:11186-1746036000-1746043200@connectchurch.com
SUMMARY:Recharge
DESCRIPTION:WEDNESDAY NIGHTS\nLifeGroups are designed to keep our students connected with peers and in the Word! This meeting time is designed for food\, fun\, hang out while also providing deep\, biblical learning. We know that the school year can be hectic\, but we think it is valuable to carve out time for fellowship in Christ! \n7th – 12th grade | 6-8pm | The Hub
URL:https://connectchurch.com/event/recharge-2-2025-04-30/
ATTACH;FMTTYPE=image/jpeg:https://connectchurch.com/wp-content/uploads/2021/04/wiRechargeWed.jpg
END:VEVENT
BEGIN:VEVENT
DTSTART;TZID=America/Chicago:20250430T183000
DTEND;TZID=America/Chicago:20250430T193000
DTSTAMP:20260425T113748
CREATED:20220113T181612Z
LAST-MODIFIED:20220113T181612Z
UID:11187-1746037800-1746041400@connectchurch.com
SUMMARY:TeamKID
DESCRIPTION:Join TeamKID every Wednesday evening during the school semester for a fun\, high-energy\, Bible and mission based program with games and activities (Lasts until 8pm on Prayer Nights). \n3 yr old – 4 yr old | Preschool Area | 6:30 – 7:30pm\nKindergarten – 6th grade | Kids Area | 6:30 – 7:30pm
URL:https://connectchurch.com/event/teamkid-2025-04-30/
ATTACH;FMTTYPE=image/jpeg:https://connectchurch.com/wp-content/uploads/2021/04/wiTeamKid.jpg
END:VEVENT
BEGIN:VEVENT
DTSTART;TZID=UTC:20250504T090000
DTEND;TZID=UTC:20250504T100000
DTSTAMP:20260425T113748
CREATED:20210422T040207Z
LAST-MODIFIED:20210422T040207Z
UID:11192-1746349200-1746352800@connectchurch.com
SUMMARY:Sunday Morning Discipleship Classes
DESCRIPTION:At Connect Church\, we believe in the transformative power of God’s Word. As we study His Word\, He transforms us into disciples of Jesus Christ — life-long learners and leaders. We offer opportunities for all adults to build a stronger foundation for faith\, family and friendships. \nConnect Student Ministry\nMeeting Time | 9am | The Hub \nMen\nMeeting Time |  9am | Room 134 \nWomen\nMeeting time | 9am | Room 132 \nMillennials and More\nMeeting time | 9am | Room 124 \nStudy of John\nMeeting time | 9am | Room 124
URL:https://connectchurch.com/event/sunday-morning-discipleship-classes-2025-05-04/
ATTACH;FMTTYPE=image/png:https://connectchurch.com/wp-content/uploads/2021/04/nl041521DiscipleshipClasses-1.png
END:VEVENT
BEGIN:VEVENT
DTSTART;TZID=America/Chicago:20250507T070000
DTEND;TZID=America/Chicago:20250507T071500
DTSTAMP:20260425T113748
CREATED:20220116T061952Z
LAST-MODIFIED:20220116T061952Z
UID:11205-1746601200-1746602100@connectchurch.com
SUMMARY:Wednesday Morning Prayer Call
DESCRIPTION:Join us for the morning prayer call:\nWednesday 7:00 – 7:15am\nDial in number: (669) 275-1250
URL:https://connectchurch.com/event/wednesday-morning-prayer-call-2025-05-07/
ATTACH;FMTTYPE=image/png:https://connectchurch.com/wp-content/uploads/2022/01/nl011622PhoneBible.png
END:VEVENT
BEGIN:VEVENT
DTSTART;TZID=America/Chicago:20250507T180000
DTEND;TZID=America/Chicago:20250507T190000
DTSTAMP:20260425T113748
CREATED:20220116T061005Z
LAST-MODIFIED:20220116T061005Z
UID:11202-1746640800-1746644400@connectchurch.com
SUMMARY:First Wednesday Dinner and Prayer
DESCRIPTION:“Don’t worry about anything; instead\, pray about everything. Tell God what you need\, and thank him for all he has done.”\n— Philippians 4:6  \nJoin us for our monthly church-wide Dinner and Prayer. Come and bring your petitions to the Lord\, and join us as we seek His continued direction for our church. We will gather at on the first Wednesday at 6 pm for a family dinner and 6:30 pm for prayer.
URL:https://connectchurch.com/event/first-wednesday-dinner-and-prayer-2025-05-07/
ATTACH;FMTTYPE=image/png:https://connectchurch.com/wp-content/uploads/2022/01/wi1stWednesdayPrayer.png
END:VEVENT
BEGIN:VEVENT
DTSTART;TZID=America/Chicago:20250507T180000
DTEND;TZID=America/Chicago:20250507T200000
DTSTAMP:20260425T113748
CREATED:20220113T181915Z
LAST-MODIFIED:20220113T181915Z
UID:11203-1746640800-1746648000@connectchurch.com
SUMMARY:Recharge
DESCRIPTION:WEDNESDAY NIGHTS\nLifeGroups are designed to keep our students connected with peers and in the Word! This meeting time is designed for food\, fun\, hang out while also providing deep\, biblical learning. We know that the school year can be hectic\, but we think it is valuable to carve out time for fellowship in Christ! \n7th – 12th grade | 6-8pm | The Hub
URL:https://connectchurch.com/event/recharge-2-2025-05-07/
ATTACH;FMTTYPE=image/jpeg:https://connectchurch.com/wp-content/uploads/2021/04/wiRechargeWed.jpg
END:VEVENT
BEGIN:VEVENT
DTSTART;TZID=America/Chicago:20250507T183000
DTEND;TZID=America/Chicago:20250507T193000
DTSTAMP:20260425T113748
CREATED:20220113T181612Z
LAST-MODIFIED:20220113T181612Z
UID:11204-1746642600-1746646200@connectchurch.com
SUMMARY:TeamKID
DESCRIPTION:Join TeamKID every Wednesday evening during the school semester for a fun\, high-energy\, Bible and mission based program with games and activities (Lasts until 8pm on Prayer Nights). \n3 yr old – 4 yr old | Preschool Area | 6:30 – 7:30pm\nKindergarten – 6th grade | Kids Area | 6:30 – 7:30pm
URL:https://connectchurch.com/event/teamkid-2025-05-07/
ATTACH;FMTTYPE=image/jpeg:https://connectchurch.com/wp-content/uploads/2021/04/wiTeamKid.jpg
END:VEVENT
BEGIN:VEVENT
DTSTART;TZID=UTC:20250511T090000
DTEND;TZID=UTC:20250511T100000
DTSTAMP:20260425T113748
CREATED:20210422T040207Z
LAST-MODIFIED:20210422T040207Z
UID:11206-1746954000-1746957600@connectchurch.com
SUMMARY:Sunday Morning Discipleship Classes
DESCRIPTION:At Connect Church\, we believe in the transformative power of God’s Word. As we study His Word\, He transforms us into disciples of Jesus Christ — life-long learners and leaders. We offer opportunities for all adults to build a stronger foundation for faith\, family and friendships. \nConnect Student Ministry\nMeeting Time | 9am | The Hub \nMen\nMeeting Time |  9am | Room 134 \nWomen\nMeeting time | 9am | Room 132 \nMillennials and More\nMeeting time | 9am | Room 124 \nStudy of John\nMeeting time | 9am | Room 124
URL:https://connectchurch.com/event/sunday-morning-discipleship-classes-2025-05-11/
ATTACH;FMTTYPE=image/png:https://connectchurch.com/wp-content/uploads/2021/04/nl041521DiscipleshipClasses-1.png
END:VEVENT
BEGIN:VEVENT
DTSTART;TZID=America/Chicago:20250514T070000
DTEND;TZID=America/Chicago:20250514T071500
DTSTAMP:20260425T113748
CREATED:20220116T061952Z
LAST-MODIFIED:20220116T061952Z
UID:11217-1747206000-1747206900@connectchurch.com
SUMMARY:Wednesday Morning Prayer Call
DESCRIPTION:Join us for the morning prayer call:\nWednesday 7:00 – 7:15am\nDial in number: (669) 275-1250
URL:https://connectchurch.com/event/wednesday-morning-prayer-call-2025-05-14/
ATTACH;FMTTYPE=image/png:https://connectchurch.com/wp-content/uploads/2022/01/nl011622PhoneBible.png
END:VEVENT
BEGIN:VEVENT
DTSTART;TZID=America/Chicago:20250514T180000
DTEND;TZID=America/Chicago:20250514T200000
DTSTAMP:20260425T113748
CREATED:20220113T181915Z
LAST-MODIFIED:20220113T181915Z
UID:11215-1747245600-1747252800@connectchurch.com
SUMMARY:Recharge
DESCRIPTION:WEDNESDAY NIGHTS\nLifeGroups are designed to keep our students connected with peers and in the Word! This meeting time is designed for food\, fun\, hang out while also providing deep\, biblical learning. We know that the school year can be hectic\, but we think it is valuable to carve out time for fellowship in Christ! \n7th – 12th grade | 6-8pm | The Hub
URL:https://connectchurch.com/event/recharge-2-2025-05-14/
ATTACH;FMTTYPE=image/jpeg:https://connectchurch.com/wp-content/uploads/2021/04/wiRechargeWed.jpg
END:VEVENT
BEGIN:VEVENT
DTSTART;TZID=America/Chicago:20250514T183000
DTEND;TZID=America/Chicago:20250514T193000
DTSTAMP:20260425T113748
CREATED:20220113T181612Z
LAST-MODIFIED:20220113T181612Z
UID:11216-1747247400-1747251000@connectchurch.com
SUMMARY:TeamKID
DESCRIPTION:Join TeamKID every Wednesday evening during the school semester for a fun\, high-energy\, Bible and mission based program with games and activities (Lasts until 8pm on Prayer Nights). \n3 yr old – 4 yr old | Preschool Area | 6:30 – 7:30pm\nKindergarten – 6th grade | Kids Area | 6:30 – 7:30pm
URL:https://connectchurch.com/event/teamkid-2025-05-14/
ATTACH;FMTTYPE=image/jpeg:https://connectchurch.com/wp-content/uploads/2021/04/wiTeamKid.jpg
END:VEVENT
BEGIN:VEVENT
DTSTART;TZID=UTC:20250518T090000
DTEND;TZID=UTC:20250518T100000
DTSTAMP:20260425T113748
CREATED:20210422T040207Z
LAST-MODIFIED:20210422T040207Z
UID:11222-1747558800-1747562400@connectchurch.com
SUMMARY:Sunday Morning Discipleship Classes
DESCRIPTION:At Connect Church\, we believe in the transformative power of God’s Word. As we study His Word\, He transforms us into disciples of Jesus Christ — life-long learners and leaders. We offer opportunities for all adults to build a stronger foundation for faith\, family and friendships. \nConnect Student Ministry\nMeeting Time | 9am | The Hub \nMen\nMeeting Time |  9am | Room 134 \nWomen\nMeeting time | 9am | Room 132 \nMillennials and More\nMeeting time | 9am | Room 124 \nStudy of John\nMeeting time | 9am | Room 124
URL:https://connectchurch.com/event/sunday-morning-discipleship-classes-2025-05-18/
ATTACH;FMTTYPE=image/png:https://connectchurch.com/wp-content/uploads/2021/04/nl041521DiscipleshipClasses-1.png
END:VEVENT
BEGIN:VEVENT
DTSTART;TZID=America/Chicago:20250518T090000
DTEND;TZID=America/Chicago:20250518T100000
DTSTAMP:20260425T113748
CREATED:20220215T181550Z
LAST-MODIFIED:20220215T181550Z
UID:11221-1747558800-1747562400@connectchurch.com
SUMMARY:Partnership Class
DESCRIPTION:Have you been attending Connect Church for a while but are not yet a member? Then we invite you to attend our membership class and become a member of Connect Church. Being a member expresses your commitment to be the church that makes disciples of Jesus Christ who love God\, love people and impact the world. Stop by the Next Steps Table today for more info. \nPastor Aalim said a few weeks ago  that being in community is important. In fact\, it is the lifeblood of our church. And while our church has been rocked by the ongoing pandemic\, the transitions in our church\, and a dumpster fire of political and societal division\, we are still here. Connect Church is refocusing and renewing our mission and purpose. \nStop by the Next Steps Table today after the worship service\, where we can answer any of your questions and help you take the next step in getting connected. \nNext Partnership  Class\nSunday\, February 20 at 9am
URL:https://connectchurch.com/event/partnership-class-3-2025-05-18/
END:VEVENT
BEGIN:VEVENT
DTSTART;TZID=America/Chicago:20250521T070000
DTEND;TZID=America/Chicago:20250521T071500
DTSTAMP:20260425T113748
CREATED:20220116T061952Z
LAST-MODIFIED:20220116T061952Z
UID:11225-1747810800-1747811700@connectchurch.com
SUMMARY:Wednesday Morning Prayer Call
DESCRIPTION:Join us for the morning prayer call:\nWednesday 7:00 – 7:15am\nDial in number: (669) 275-1250
URL:https://connectchurch.com/event/wednesday-morning-prayer-call-2025-05-21/
ATTACH;FMTTYPE=image/png:https://connectchurch.com/wp-content/uploads/2022/01/nl011622PhoneBible.png
END:VEVENT
BEGIN:VEVENT
DTSTART;TZID=America/Chicago:20250521T180000
DTEND;TZID=America/Chicago:20250521T200000
DTSTAMP:20260425T113748
CREATED:20220113T181915Z
LAST-MODIFIED:20220113T181915Z
UID:11223-1747850400-1747857600@connectchurch.com
SUMMARY:Recharge
DESCRIPTION:WEDNESDAY NIGHTS\nLifeGroups are designed to keep our students connected with peers and in the Word! This meeting time is designed for food\, fun\, hang out while also providing deep\, biblical learning. We know that the school year can be hectic\, but we think it is valuable to carve out time for fellowship in Christ! \n7th – 12th grade | 6-8pm | The Hub
URL:https://connectchurch.com/event/recharge-2-2025-05-21/
ATTACH;FMTTYPE=image/jpeg:https://connectchurch.com/wp-content/uploads/2021/04/wiRechargeWed.jpg
END:VEVENT
BEGIN:VEVENT
DTSTART;TZID=America/Chicago:20250521T183000
DTEND;TZID=America/Chicago:20250521T193000
DTSTAMP:20260425T113748
CREATED:20220113T181612Z
LAST-MODIFIED:20220113T181612Z
UID:11224-1747852200-1747855800@connectchurch.com
SUMMARY:TeamKID
DESCRIPTION:Join TeamKID every Wednesday evening during the school semester for a fun\, high-energy\, Bible and mission based program with games and activities (Lasts until 8pm on Prayer Nights). \n3 yr old – 4 yr old | Preschool Area | 6:30 – 7:30pm\nKindergarten – 6th grade | Kids Area | 6:30 – 7:30pm
URL:https://connectchurch.com/event/teamkid-2025-05-21/
ATTACH;FMTTYPE=image/jpeg:https://connectchurch.com/wp-content/uploads/2021/04/wiTeamKid.jpg
END:VEVENT
BEGIN:VEVENT
DTSTART;TZID=UTC:20250525T090000
DTEND;TZID=UTC:20250525T100000
DTSTAMP:20260425T113748
CREATED:20210422T040207Z
LAST-MODIFIED:20210422T040207Z
UID:11242-1748163600-1748167200@connectchurch.com
SUMMARY:Sunday Morning Discipleship Classes
DESCRIPTION:At Connect Church\, we believe in the transformative power of God’s Word. As we study His Word\, He transforms us into disciples of Jesus Christ — life-long learners and leaders. We offer opportunities for all adults to build a stronger foundation for faith\, family and friendships. \nConnect Student Ministry\nMeeting Time | 9am | The Hub \nMen\nMeeting Time |  9am | Room 134 \nWomen\nMeeting time | 9am | Room 132 \nMillennials and More\nMeeting time | 9am | Room 124 \nStudy of John\nMeeting time | 9am | Room 124
URL:https://connectchurch.com/event/sunday-morning-discipleship-classes-2025-05-25/
ATTACH;FMTTYPE=image/png:https://connectchurch.com/wp-content/uploads/2021/04/nl041521DiscipleshipClasses-1.png
END:VEVENT
BEGIN:VEVENT
DTSTART;TZID=America/Chicago:20250528T070000
DTEND;TZID=America/Chicago:20250528T071500
DTSTAMP:20260425T113748
CREATED:20220116T061952Z
LAST-MODIFIED:20220116T061952Z
UID:11248-1748415600-1748416500@connectchurch.com
SUMMARY:Wednesday Morning Prayer Call
DESCRIPTION:Join us for the morning prayer call:\nWednesday 7:00 – 7:15am\nDial in number: (669) 275-1250
URL:https://connectchurch.com/event/wednesday-morning-prayer-call-2025-05-28/
ATTACH;FMTTYPE=image/png:https://connectchurch.com/wp-content/uploads/2022/01/nl011622PhoneBible.png
END:VEVENT
END:VCALENDAR