BEGIN:VCALENDAR
VERSION:2.0
PRODID:-//Connect Church - ECPv6.15.18//NONSGML v1.0//EN
CALSCALE:GREGORIAN
METHOD:PUBLISH
X-WR-CALNAME:Connect Church
X-ORIGINAL-URL:https://connectchurch.com
X-WR-CALDESC:Events for Connect Church
REFRESH-INTERVAL;VALUE=DURATION:PT1H
X-Robots-Tag:noindex
X-PUBLISHED-TTL:PT1H
BEGIN:VTIMEZONE
TZID:America/Chicago
BEGIN:DAYLIGHT
TZOFFSETFROM:-0600
TZOFFSETTO:-0500
TZNAME:CDT
DTSTART:20240310T080000
END:DAYLIGHT
BEGIN:STANDARD
TZOFFSETFROM:-0500
TZOFFSETTO:-0600
TZNAME:CST
DTSTART:20241103T070000
END:STANDARD
BEGIN:DAYLIGHT
TZOFFSETFROM:-0600
TZOFFSETTO:-0500
TZNAME:CDT
DTSTART:20250309T080000
END:DAYLIGHT
BEGIN:STANDARD
TZOFFSETFROM:-0500
TZOFFSETTO:-0600
TZNAME:CST
DTSTART:20251102T070000
END:STANDARD
BEGIN:DAYLIGHT
TZOFFSETFROM:-0600
TZOFFSETTO:-0500
TZNAME:CDT
DTSTART:20260308T080000
END:DAYLIGHT
BEGIN:STANDARD
TZOFFSETFROM:-0500
TZOFFSETTO:-0600
TZNAME:CST
DTSTART:20261101T070000
END:STANDARD
END:VTIMEZONE
BEGIN:VTIMEZONE
TZID:UTC
BEGIN:STANDARD
TZOFFSETFROM:+0000
TZOFFSETTO:+0000
TZNAME:UTC
DTSTART:20240101T000000
END:STANDARD
END:VTIMEZONE
BEGIN:VEVENT
DTSTART;TZID=America/Chicago:20251203T180000
DTEND;TZID=America/Chicago:20251203T200000
DTSTAMP:20260424T112819
CREATED:20220113T181915Z
LAST-MODIFIED:20220113T181915Z
UID:11547-1764784800-1764792000@connectchurch.com
SUMMARY:Recharge
DESCRIPTION:WEDNESDAY NIGHTS\nLifeGroups are designed to keep our students connected with peers and in the Word! This meeting time is designed for food\, fun\, hang out while also providing deep\, biblical learning. We know that the school year can be hectic\, but we think it is valuable to carve out time for fellowship in Christ! \n7th – 12th grade | 6-8pm | The Hub
URL:https://connectchurch.com/event/recharge-2-2025-12-03/
ATTACH;FMTTYPE=image/jpeg:https://connectchurch.com/wp-content/uploads/2021/04/wiRechargeWed.jpg
END:VEVENT
BEGIN:VEVENT
DTSTART;TZID=America/Chicago:20251203T180000
DTEND;TZID=America/Chicago:20251203T190000
DTSTAMP:20260424T112819
CREATED:20220116T061005Z
LAST-MODIFIED:20220116T061005Z
UID:11546-1764784800-1764788400@connectchurch.com
SUMMARY:First Wednesday Dinner and Prayer
DESCRIPTION:“Don’t worry about anything; instead\, pray about everything. Tell God what you need\, and thank him for all he has done.”\n— Philippians 4:6  \nJoin us for our monthly church-wide Dinner and Prayer. Come and bring your petitions to the Lord\, and join us as we seek His continued direction for our church. We will gather at on the first Wednesday at 6 pm for a family dinner and 6:30 pm for prayer.
URL:https://connectchurch.com/event/first-wednesday-dinner-and-prayer-2025-12-03/
ATTACH;FMTTYPE=image/png:https://connectchurch.com/wp-content/uploads/2022/01/wi1stWednesdayPrayer.png
END:VEVENT
BEGIN:VEVENT
DTSTART;TZID=America/Chicago:20251203T070000
DTEND;TZID=America/Chicago:20251203T071500
DTSTAMP:20260424T112819
CREATED:20220116T061952Z
LAST-MODIFIED:20220116T061952Z
UID:11549-1764745200-1764746100@connectchurch.com
SUMMARY:Wednesday Morning Prayer Call
DESCRIPTION:Join us for the morning prayer call:\nWednesday 7:00 – 7:15am\nDial in number: (669) 275-1250
URL:https://connectchurch.com/event/wednesday-morning-prayer-call-2025-12-03/
ATTACH;FMTTYPE=image/png:https://connectchurch.com/wp-content/uploads/2022/01/nl011622PhoneBible.png
END:VEVENT
BEGIN:VEVENT
DTSTART;TZID=UTC:20251130T090000
DTEND;TZID=UTC:20251130T100000
DTSTAMP:20260424T112819
CREATED:20210422T040207Z
LAST-MODIFIED:20210422T040207Z
UID:11542-1764493200-1764496800@connectchurch.com
SUMMARY:Sunday Morning Discipleship Classes
DESCRIPTION:At Connect Church\, we believe in the transformative power of God’s Word. As we study His Word\, He transforms us into disciples of Jesus Christ — life-long learners and leaders. We offer opportunities for all adults to build a stronger foundation for faith\, family and friendships. \nConnect Student Ministry\nMeeting Time | 9am | The Hub \nMen\nMeeting Time |  9am | Room 134 \nWomen\nMeeting time | 9am | Room 132 \nMillennials and More\nMeeting time | 9am | Room 124 \nStudy of John\nMeeting time | 9am | Room 124
URL:https://connectchurch.com/event/sunday-morning-discipleship-classes-2025-11-30/
ATTACH;FMTTYPE=image/png:https://connectchurch.com/wp-content/uploads/2021/04/nl041521DiscipleshipClasses-1.png
END:VEVENT
BEGIN:VEVENT
DTSTART;TZID=America/Chicago:20251126T183000
DTEND;TZID=America/Chicago:20251126T193000
DTSTAMP:20260424T112819
CREATED:20220113T181612Z
LAST-MODIFIED:20220113T181612Z
UID:11540-1764181800-1764185400@connectchurch.com
SUMMARY:TeamKID
DESCRIPTION:Join TeamKID every Wednesday evening during the school semester for a fun\, high-energy\, Bible and mission based program with games and activities (Lasts until 8pm on Prayer Nights). \n3 yr old – 4 yr old | Preschool Area | 6:30 – 7:30pm\nKindergarten – 6th grade | Kids Area | 6:30 – 7:30pm
URL:https://connectchurch.com/event/teamkid-2025-11-26/
ATTACH;FMTTYPE=image/jpeg:https://connectchurch.com/wp-content/uploads/2021/04/wiTeamKid.jpg
END:VEVENT
BEGIN:VEVENT
DTSTART;TZID=America/Chicago:20251126T180000
DTEND;TZID=America/Chicago:20251126T200000
DTSTAMP:20260424T112819
CREATED:20220113T181915Z
LAST-MODIFIED:20220113T181915Z
UID:11539-1764180000-1764187200@connectchurch.com
SUMMARY:Recharge
DESCRIPTION:WEDNESDAY NIGHTS\nLifeGroups are designed to keep our students connected with peers and in the Word! This meeting time is designed for food\, fun\, hang out while also providing deep\, biblical learning. We know that the school year can be hectic\, but we think it is valuable to carve out time for fellowship in Christ! \n7th – 12th grade | 6-8pm | The Hub
URL:https://connectchurch.com/event/recharge-2-2025-11-26/
ATTACH;FMTTYPE=image/jpeg:https://connectchurch.com/wp-content/uploads/2021/04/wiRechargeWed.jpg
END:VEVENT
BEGIN:VEVENT
DTSTART;TZID=America/Chicago:20251126T070000
DTEND;TZID=America/Chicago:20251126T071500
DTSTAMP:20260424T112819
CREATED:20220116T061952Z
LAST-MODIFIED:20220116T061952Z
UID:11541-1764140400-1764141300@connectchurch.com
SUMMARY:Wednesday Morning Prayer Call
DESCRIPTION:Join us for the morning prayer call:\nWednesday 7:00 – 7:15am\nDial in number: (669) 275-1250
URL:https://connectchurch.com/event/wednesday-morning-prayer-call-2025-11-26/
ATTACH;FMTTYPE=image/png:https://connectchurch.com/wp-content/uploads/2022/01/nl011622PhoneBible.png
END:VEVENT
BEGIN:VEVENT
DTSTART;TZID=UTC:20251123T090000
DTEND;TZID=UTC:20251123T100000
DTSTAMP:20260424T112819
CREATED:20210422T040207Z
LAST-MODIFIED:20210422T040207Z
UID:11499-1763888400-1763892000@connectchurch.com
SUMMARY:Sunday Morning Discipleship Classes
DESCRIPTION:At Connect Church\, we believe in the transformative power of God’s Word. As we study His Word\, He transforms us into disciples of Jesus Christ — life-long learners and leaders. We offer opportunities for all adults to build a stronger foundation for faith\, family and friendships. \nConnect Student Ministry\nMeeting Time | 9am | The Hub \nMen\nMeeting Time |  9am | Room 134 \nWomen\nMeeting time | 9am | Room 132 \nMillennials and More\nMeeting time | 9am | Room 124 \nStudy of John\nMeeting time | 9am | Room 124
URL:https://connectchurch.com/event/sunday-morning-discipleship-classes-2025-11-23/
ATTACH;FMTTYPE=image/png:https://connectchurch.com/wp-content/uploads/2021/04/nl041521DiscipleshipClasses-1.png
END:VEVENT
BEGIN:VEVENT
DTSTART;TZID=America/Chicago:20251119T183000
DTEND;TZID=America/Chicago:20251119T193000
DTSTAMP:20260424T112819
CREATED:20220113T181612Z
LAST-MODIFIED:20220113T181612Z
UID:11497-1763577000-1763580600@connectchurch.com
SUMMARY:TeamKID
DESCRIPTION:Join TeamKID every Wednesday evening during the school semester for a fun\, high-energy\, Bible and mission based program with games and activities (Lasts until 8pm on Prayer Nights). \n3 yr old – 4 yr old | Preschool Area | 6:30 – 7:30pm\nKindergarten – 6th grade | Kids Area | 6:30 – 7:30pm
URL:https://connectchurch.com/event/teamkid-2025-11-19/
ATTACH;FMTTYPE=image/jpeg:https://connectchurch.com/wp-content/uploads/2021/04/wiTeamKid.jpg
END:VEVENT
BEGIN:VEVENT
DTSTART;TZID=America/Chicago:20251119T180000
DTEND;TZID=America/Chicago:20251119T200000
DTSTAMP:20260424T112819
CREATED:20220113T181915Z
LAST-MODIFIED:20220113T181915Z
UID:11496-1763575200-1763582400@connectchurch.com
SUMMARY:Recharge
DESCRIPTION:WEDNESDAY NIGHTS\nLifeGroups are designed to keep our students connected with peers and in the Word! This meeting time is designed for food\, fun\, hang out while also providing deep\, biblical learning. We know that the school year can be hectic\, but we think it is valuable to carve out time for fellowship in Christ! \n7th – 12th grade | 6-8pm | The Hub
URL:https://connectchurch.com/event/recharge-2-2025-11-19/
ATTACH;FMTTYPE=image/jpeg:https://connectchurch.com/wp-content/uploads/2021/04/wiRechargeWed.jpg
END:VEVENT
BEGIN:VEVENT
DTSTART;TZID=America/Chicago:20251119T070000
DTEND;TZID=America/Chicago:20251119T071500
DTSTAMP:20260424T112819
CREATED:20220116T061952Z
LAST-MODIFIED:20220116T061952Z
UID:11498-1763535600-1763536500@connectchurch.com
SUMMARY:Wednesday Morning Prayer Call
DESCRIPTION:Join us for the morning prayer call:\nWednesday 7:00 – 7:15am\nDial in number: (669) 275-1250
URL:https://connectchurch.com/event/wednesday-morning-prayer-call-2025-11-19/
ATTACH;FMTTYPE=image/png:https://connectchurch.com/wp-content/uploads/2022/01/nl011622PhoneBible.png
END:VEVENT
BEGIN:VEVENT
DTSTART;TZID=America/Chicago:20251116T090000
DTEND;TZID=America/Chicago:20251116T100000
DTSTAMP:20260424T112819
CREATED:20220215T181550Z
LAST-MODIFIED:20220215T181550Z
UID:11490-1763283600-1763287200@connectchurch.com
SUMMARY:Partnership Class
DESCRIPTION:Have you been attending Connect Church for a while but are not yet a member? Then we invite you to attend our membership class and become a member of Connect Church. Being a member expresses your commitment to be the church that makes disciples of Jesus Christ who love God\, love people and impact the world. Stop by the Next Steps Table today for more info. \nPastor Aalim said a few weeks ago  that being in community is important. In fact\, it is the lifeblood of our church. And while our church has been rocked by the ongoing pandemic\, the transitions in our church\, and a dumpster fire of political and societal division\, we are still here. Connect Church is refocusing and renewing our mission and purpose. \nStop by the Next Steps Table today after the worship service\, where we can answer any of your questions and help you take the next step in getting connected. \nNext Partnership  Class\nSunday\, February 20 at 9am
URL:https://connectchurch.com/event/partnership-class-3-2025-11-16/
END:VEVENT
BEGIN:VEVENT
DTSTART;TZID=UTC:20251116T090000
DTEND;TZID=UTC:20251116T100000
DTSTAMP:20260424T112819
CREATED:20210422T040207Z
LAST-MODIFIED:20210422T040207Z
UID:11491-1763283600-1763287200@connectchurch.com
SUMMARY:Sunday Morning Discipleship Classes
DESCRIPTION:At Connect Church\, we believe in the transformative power of God’s Word. As we study His Word\, He transforms us into disciples of Jesus Christ — life-long learners and leaders. We offer opportunities for all adults to build a stronger foundation for faith\, family and friendships. \nConnect Student Ministry\nMeeting Time | 9am | The Hub \nMen\nMeeting Time |  9am | Room 134 \nWomen\nMeeting time | 9am | Room 132 \nMillennials and More\nMeeting time | 9am | Room 124 \nStudy of John\nMeeting time | 9am | Room 124
URL:https://connectchurch.com/event/sunday-morning-discipleship-classes-2025-11-16/
ATTACH;FMTTYPE=image/png:https://connectchurch.com/wp-content/uploads/2021/04/nl041521DiscipleshipClasses-1.png
END:VEVENT
BEGIN:VEVENT
DTSTART;TZID=America/Chicago:20251112T183000
DTEND;TZID=America/Chicago:20251112T193000
DTSTAMP:20260424T112819
CREATED:20220113T181612Z
LAST-MODIFIED:20220113T181612Z
UID:11488-1762972200-1762975800@connectchurch.com
SUMMARY:TeamKID
DESCRIPTION:Join TeamKID every Wednesday evening during the school semester for a fun\, high-energy\, Bible and mission based program with games and activities (Lasts until 8pm on Prayer Nights). \n3 yr old – 4 yr old | Preschool Area | 6:30 – 7:30pm\nKindergarten – 6th grade | Kids Area | 6:30 – 7:30pm
URL:https://connectchurch.com/event/teamkid-2025-11-12/
ATTACH;FMTTYPE=image/jpeg:https://connectchurch.com/wp-content/uploads/2021/04/wiTeamKid.jpg
END:VEVENT
BEGIN:VEVENT
DTSTART;TZID=America/Chicago:20251112T180000
DTEND;TZID=America/Chicago:20251112T200000
DTSTAMP:20260424T112819
CREATED:20220113T181915Z
LAST-MODIFIED:20220113T181915Z
UID:11487-1762970400-1762977600@connectchurch.com
SUMMARY:Recharge
DESCRIPTION:WEDNESDAY NIGHTS\nLifeGroups are designed to keep our students connected with peers and in the Word! This meeting time is designed for food\, fun\, hang out while also providing deep\, biblical learning. We know that the school year can be hectic\, but we think it is valuable to carve out time for fellowship in Christ! \n7th – 12th grade | 6-8pm | The Hub
URL:https://connectchurch.com/event/recharge-2-2025-11-12/
ATTACH;FMTTYPE=image/jpeg:https://connectchurch.com/wp-content/uploads/2021/04/wiRechargeWed.jpg
END:VEVENT
BEGIN:VEVENT
DTSTART;TZID=America/Chicago:20251112T070000
DTEND;TZID=America/Chicago:20251112T071500
DTSTAMP:20260424T112819
CREATED:20220116T061952Z
LAST-MODIFIED:20220116T061952Z
UID:11489-1762930800-1762931700@connectchurch.com
SUMMARY:Wednesday Morning Prayer Call
DESCRIPTION:Join us for the morning prayer call:\nWednesday 7:00 – 7:15am\nDial in number: (669) 275-1250
URL:https://connectchurch.com/event/wednesday-morning-prayer-call-2025-11-12/
ATTACH;FMTTYPE=image/png:https://connectchurch.com/wp-content/uploads/2022/01/nl011622PhoneBible.png
END:VEVENT
BEGIN:VEVENT
DTSTART;TZID=UTC:20251109T090000
DTEND;TZID=UTC:20251109T100000
DTSTAMP:20260424T112819
CREATED:20210422T040207Z
LAST-MODIFIED:20210422T040207Z
UID:11485-1762678800-1762682400@connectchurch.com
SUMMARY:Sunday Morning Discipleship Classes
DESCRIPTION:At Connect Church\, we believe in the transformative power of God’s Word. As we study His Word\, He transforms us into disciples of Jesus Christ — life-long learners and leaders. We offer opportunities for all adults to build a stronger foundation for faith\, family and friendships. \nConnect Student Ministry\nMeeting Time | 9am | The Hub \nMen\nMeeting Time |  9am | Room 134 \nWomen\nMeeting time | 9am | Room 132 \nMillennials and More\nMeeting time | 9am | Room 124 \nStudy of John\nMeeting time | 9am | Room 124
URL:https://connectchurch.com/event/sunday-morning-discipleship-classes-2025-11-09/
ATTACH;FMTTYPE=image/png:https://connectchurch.com/wp-content/uploads/2021/04/nl041521DiscipleshipClasses-1.png
END:VEVENT
BEGIN:VEVENT
DTSTART;TZID=America/Chicago:20251105T183000
DTEND;TZID=America/Chicago:20251105T193000
DTSTAMP:20260424T112819
CREATED:20220113T181612Z
LAST-MODIFIED:20220113T181612Z
UID:11483-1762367400-1762371000@connectchurch.com
SUMMARY:TeamKID
DESCRIPTION:Join TeamKID every Wednesday evening during the school semester for a fun\, high-energy\, Bible and mission based program with games and activities (Lasts until 8pm on Prayer Nights). \n3 yr old – 4 yr old | Preschool Area | 6:30 – 7:30pm\nKindergarten – 6th grade | Kids Area | 6:30 – 7:30pm
URL:https://connectchurch.com/event/teamkid-2025-11-05/
ATTACH;FMTTYPE=image/jpeg:https://connectchurch.com/wp-content/uploads/2021/04/wiTeamKid.jpg
END:VEVENT
BEGIN:VEVENT
DTSTART;TZID=America/Chicago:20251105T180000
DTEND;TZID=America/Chicago:20251105T200000
DTSTAMP:20260424T112819
CREATED:20220113T181915Z
LAST-MODIFIED:20220113T181915Z
UID:11482-1762365600-1762372800@connectchurch.com
SUMMARY:Recharge
DESCRIPTION:WEDNESDAY NIGHTS\nLifeGroups are designed to keep our students connected with peers and in the Word! This meeting time is designed for food\, fun\, hang out while also providing deep\, biblical learning. We know that the school year can be hectic\, but we think it is valuable to carve out time for fellowship in Christ! \n7th – 12th grade | 6-8pm | The Hub
URL:https://connectchurch.com/event/recharge-2-2025-11-05/
ATTACH;FMTTYPE=image/jpeg:https://connectchurch.com/wp-content/uploads/2021/04/wiRechargeWed.jpg
END:VEVENT
BEGIN:VEVENT
DTSTART;TZID=America/Chicago:20251105T180000
DTEND;TZID=America/Chicago:20251105T190000
DTSTAMP:20260424T112819
CREATED:20220116T061005Z
LAST-MODIFIED:20220116T061005Z
UID:11481-1762365600-1762369200@connectchurch.com
SUMMARY:First Wednesday Dinner and Prayer
DESCRIPTION:“Don’t worry about anything; instead\, pray about everything. Tell God what you need\, and thank him for all he has done.”\n— Philippians 4:6  \nJoin us for our monthly church-wide Dinner and Prayer. Come and bring your petitions to the Lord\, and join us as we seek His continued direction for our church. We will gather at on the first Wednesday at 6 pm for a family dinner and 6:30 pm for prayer.
URL:https://connectchurch.com/event/first-wednesday-dinner-and-prayer-2025-11-05/
ATTACH;FMTTYPE=image/png:https://connectchurch.com/wp-content/uploads/2022/01/wi1stWednesdayPrayer.png
END:VEVENT
BEGIN:VEVENT
DTSTART;TZID=America/Chicago:20251105T070000
DTEND;TZID=America/Chicago:20251105T071500
DTSTAMP:20260424T112819
CREATED:20220116T061952Z
LAST-MODIFIED:20220116T061952Z
UID:11484-1762326000-1762326900@connectchurch.com
SUMMARY:Wednesday Morning Prayer Call
DESCRIPTION:Join us for the morning prayer call:\nWednesday 7:00 – 7:15am\nDial in number: (669) 275-1250
URL:https://connectchurch.com/event/wednesday-morning-prayer-call-2025-11-05/
ATTACH;FMTTYPE=image/png:https://connectchurch.com/wp-content/uploads/2022/01/nl011622PhoneBible.png
END:VEVENT
BEGIN:VEVENT
DTSTART;TZID=UTC:20251102T090000
DTEND;TZID=UTC:20251102T100000
DTSTAMP:20260424T112819
CREATED:20210422T040207Z
LAST-MODIFIED:20210422T040207Z
UID:11475-1762074000-1762077600@connectchurch.com
SUMMARY:Sunday Morning Discipleship Classes
DESCRIPTION:At Connect Church\, we believe in the transformative power of God’s Word. As we study His Word\, He transforms us into disciples of Jesus Christ — life-long learners and leaders. We offer opportunities for all adults to build a stronger foundation for faith\, family and friendships. \nConnect Student Ministry\nMeeting Time | 9am | The Hub \nMen\nMeeting Time |  9am | Room 134 \nWomen\nMeeting time | 9am | Room 132 \nMillennials and More\nMeeting time | 9am | Room 124 \nStudy of John\nMeeting time | 9am | Room 124
URL:https://connectchurch.com/event/sunday-morning-discipleship-classes-2025-11-02/
ATTACH;FMTTYPE=image/png:https://connectchurch.com/wp-content/uploads/2021/04/nl041521DiscipleshipClasses-1.png
END:VEVENT
BEGIN:VEVENT
DTSTART;TZID=America/Chicago:20251029T183000
DTEND;TZID=America/Chicago:20251029T193000
DTSTAMP:20260424T112819
CREATED:20220113T181612Z
LAST-MODIFIED:20220113T181612Z
UID:11473-1761762600-1761766200@connectchurch.com
SUMMARY:TeamKID
DESCRIPTION:Join TeamKID every Wednesday evening during the school semester for a fun\, high-energy\, Bible and mission based program with games and activities (Lasts until 8pm on Prayer Nights). \n3 yr old – 4 yr old | Preschool Area | 6:30 – 7:30pm\nKindergarten – 6th grade | Kids Area | 6:30 – 7:30pm
URL:https://connectchurch.com/event/teamkid-2025-10-29/
ATTACH;FMTTYPE=image/jpeg:https://connectchurch.com/wp-content/uploads/2021/04/wiTeamKid.jpg
END:VEVENT
BEGIN:VEVENT
DTSTART;TZID=America/Chicago:20251029T180000
DTEND;TZID=America/Chicago:20251029T200000
DTSTAMP:20260424T112819
CREATED:20220113T181915Z
LAST-MODIFIED:20220113T181915Z
UID:11472-1761760800-1761768000@connectchurch.com
SUMMARY:Recharge
DESCRIPTION:WEDNESDAY NIGHTS\nLifeGroups are designed to keep our students connected with peers and in the Word! This meeting time is designed for food\, fun\, hang out while also providing deep\, biblical learning. We know that the school year can be hectic\, but we think it is valuable to carve out time for fellowship in Christ! \n7th – 12th grade | 6-8pm | The Hub
URL:https://connectchurch.com/event/recharge-2-2025-10-29/
ATTACH;FMTTYPE=image/jpeg:https://connectchurch.com/wp-content/uploads/2021/04/wiRechargeWed.jpg
END:VEVENT
BEGIN:VEVENT
DTSTART;TZID=America/Chicago:20251029T070000
DTEND;TZID=America/Chicago:20251029T071500
DTSTAMP:20260424T112819
CREATED:20220116T061952Z
LAST-MODIFIED:20220116T061952Z
UID:11474-1761721200-1761722100@connectchurch.com
SUMMARY:Wednesday Morning Prayer Call
DESCRIPTION:Join us for the morning prayer call:\nWednesday 7:00 – 7:15am\nDial in number: (669) 275-1250
URL:https://connectchurch.com/event/wednesday-morning-prayer-call-2025-10-29/
ATTACH;FMTTYPE=image/png:https://connectchurch.com/wp-content/uploads/2022/01/nl011622PhoneBible.png
END:VEVENT
BEGIN:VEVENT
DTSTART;TZID=UTC:20251026T090000
DTEND;TZID=UTC:20251026T100000
DTSTAMP:20260424T112819
CREATED:20210422T040207Z
LAST-MODIFIED:20210422T040207Z
UID:11468-1761469200-1761472800@connectchurch.com
SUMMARY:Sunday Morning Discipleship Classes
DESCRIPTION:At Connect Church\, we believe in the transformative power of God’s Word. As we study His Word\, He transforms us into disciples of Jesus Christ — life-long learners and leaders. We offer opportunities for all adults to build a stronger foundation for faith\, family and friendships. \nConnect Student Ministry\nMeeting Time | 9am | The Hub \nMen\nMeeting Time |  9am | Room 134 \nWomen\nMeeting time | 9am | Room 132 \nMillennials and More\nMeeting time | 9am | Room 124 \nStudy of John\nMeeting time | 9am | Room 124
URL:https://connectchurch.com/event/sunday-morning-discipleship-classes-2025-10-26/
ATTACH;FMTTYPE=image/png:https://connectchurch.com/wp-content/uploads/2021/04/nl041521DiscipleshipClasses-1.png
END:VEVENT
BEGIN:VEVENT
DTSTART;TZID=America/Chicago:20251022T183000
DTEND;TZID=America/Chicago:20251022T193000
DTSTAMP:20260424T112819
CREATED:20220113T181612Z
LAST-MODIFIED:20220113T181612Z
UID:11463-1761157800-1761161400@connectchurch.com
SUMMARY:TeamKID
DESCRIPTION:Join TeamKID every Wednesday evening during the school semester for a fun\, high-energy\, Bible and mission based program with games and activities (Lasts until 8pm on Prayer Nights). \n3 yr old – 4 yr old | Preschool Area | 6:30 – 7:30pm\nKindergarten – 6th grade | Kids Area | 6:30 – 7:30pm
URL:https://connectchurch.com/event/teamkid-2025-10-22/
ATTACH;FMTTYPE=image/jpeg:https://connectchurch.com/wp-content/uploads/2021/04/wiTeamKid.jpg
END:VEVENT
BEGIN:VEVENT
DTSTART;TZID=America/Chicago:20251022T180000
DTEND;TZID=America/Chicago:20251022T200000
DTSTAMP:20260424T112819
CREATED:20220113T181915Z
LAST-MODIFIED:20220113T181915Z
UID:11462-1761156000-1761163200@connectchurch.com
SUMMARY:Recharge
DESCRIPTION:WEDNESDAY NIGHTS\nLifeGroups are designed to keep our students connected with peers and in the Word! This meeting time is designed for food\, fun\, hang out while also providing deep\, biblical learning. We know that the school year can be hectic\, but we think it is valuable to carve out time for fellowship in Christ! \n7th – 12th grade | 6-8pm | The Hub
URL:https://connectchurch.com/event/recharge-2-2025-10-22/
ATTACH;FMTTYPE=image/jpeg:https://connectchurch.com/wp-content/uploads/2021/04/wiRechargeWed.jpg
END:VEVENT
BEGIN:VEVENT
DTSTART;TZID=America/Chicago:20251022T070000
DTEND;TZID=America/Chicago:20251022T071500
DTSTAMP:20260424T112819
CREATED:20220116T061952Z
LAST-MODIFIED:20220116T061952Z
UID:11464-1761116400-1761117300@connectchurch.com
SUMMARY:Wednesday Morning Prayer Call
DESCRIPTION:Join us for the morning prayer call:\nWednesday 7:00 – 7:15am\nDial in number: (669) 275-1250
URL:https://connectchurch.com/event/wednesday-morning-prayer-call-2025-10-22/
ATTACH;FMTTYPE=image/png:https://connectchurch.com/wp-content/uploads/2022/01/nl011622PhoneBible.png
END:VEVENT
BEGIN:VEVENT
DTSTART;TZID=America/Chicago:20251019T090000
DTEND;TZID=America/Chicago:20251019T100000
DTSTAMP:20260424T112819
CREATED:20220215T181550Z
LAST-MODIFIED:20220215T181550Z
UID:11460-1760864400-1760868000@connectchurch.com
SUMMARY:Partnership Class
DESCRIPTION:Have you been attending Connect Church for a while but are not yet a member? Then we invite you to attend our membership class and become a member of Connect Church. Being a member expresses your commitment to be the church that makes disciples of Jesus Christ who love God\, love people and impact the world. Stop by the Next Steps Table today for more info. \nPastor Aalim said a few weeks ago  that being in community is important. In fact\, it is the lifeblood of our church. And while our church has been rocked by the ongoing pandemic\, the transitions in our church\, and a dumpster fire of political and societal division\, we are still here. Connect Church is refocusing and renewing our mission and purpose. \nStop by the Next Steps Table today after the worship service\, where we can answer any of your questions and help you take the next step in getting connected. \nNext Partnership  Class\nSunday\, February 20 at 9am
URL:https://connectchurch.com/event/partnership-class-3-2025-10-19/
END:VEVENT
END:VCALENDAR