BEGIN:VCALENDAR
VERSION:2.0
PRODID:-//Connect Church - ECPv6.15.18//NONSGML v1.0//EN
CALSCALE:GREGORIAN
METHOD:PUBLISH
X-ORIGINAL-URL:https://connectchurch.com
X-WR-CALDESC:Events for Connect Church
REFRESH-INTERVAL;VALUE=DURATION:PT1H
X-Robots-Tag:noindex
X-PUBLISHED-TTL:PT1H
BEGIN:VTIMEZONE
TZID:UTC
BEGIN:STANDARD
TZOFFSETFROM:+0000
TZOFFSETTO:+0000
TZNAME:UTC
DTSTART:20230101T000000
END:STANDARD
END:VTIMEZONE
BEGIN:VEVENT
DTSTART;TZID=UTC:20240922T090000
DTEND;TZID=UTC:20240922T100000
DTSTAMP:20260425T060747
CREATED:20210422T040207Z
LAST-MODIFIED:20210422T040207Z
UID:10395-1726995600-1726999200@connectchurch.com
SUMMARY:Sunday Morning Discipleship Classes
DESCRIPTION:At Connect Church\, we believe in the transformative power of God’s Word. As we study His Word\, He transforms us into disciples of Jesus Christ — life-long learners and leaders. We offer opportunities for all adults to build a stronger foundation for faith\, family and friendships. \nConnect Student Ministry\nMeeting Time | 9am | The Hub \nMen\nMeeting Time |  9am | Room 134 \nWomen\nMeeting time | 9am | Room 132 \nMillennials and More\nMeeting time | 9am | Room 124 \nStudy of John\nMeeting time | 9am | Room 124
URL:https://connectchurch.com/event/sunday-morning-discipleship-classes-2024-09-22/
ATTACH;FMTTYPE=image/png:https://connectchurch.com/wp-content/uploads/2021/04/nl041521DiscipleshipClasses-1.png
END:VEVENT
END:VCALENDAR